BEGIN:VCALENDAR
VERSION:2.0
PRODID:-//ChamberMaster//Event Calendar 2.0//EN
METHOD:PUBLISH
X-PUBLISHED-TTL:P3D
REFRESH-INTERVAL:P3D
CALSCALE:GREGORIAN
BEGIN:VEVENT
DTSTART:20250817T140000Z
DTEND:20250817T160000Z
X-MICROSOFT-CDO-ALLDAYEVENT:FALSE
SUMMARY:Women's Only Self-defense Workshop
DESCRIPTION:Women's Only Self-defense Workshop focusing on how to fall safely. Led by Masters World's Silver Medalist Coach Melody Jeter
X-ALT-DESC;FMTTYPE=text/html:Women&#39\;s Only Self-defense Workshop focusing on how to fall safely. Led by Masters World&#39\;s Silver Medalist Coach Melody Jeter
LOCATION:Bender Martial Arts and Fitness 5547 N. Ravenswood Suite B2
UID:e.2566.14570
SEQUENCE:3
DTSTAMP:20260420T220408Z
URL:https://business.ravenswoodchicago.org/events/details/women-s-only-self-defense-workshop-08-17-2025-14570
END:VEVENT

END:VCALENDAR
