BEGIN:VCALENDAR
VERSION:2.0
PRODID:-//ChamberMaster//Event Calendar 2.0//EN
METHOD:PUBLISH
X-PUBLISHED-TTL:P3D
REFRESH-INTERVAL:P3D
CALSCALE:GREGORIAN
BEGIN:VEVENT
DTSTART:20240630T160000Z
DTEND:20240630T180000Z
X-MICROSOFT-CDO-ALLDAYEVENT:FALSE
SUMMARY:Women's Only Intro To Barbell Lifting Workshop
DESCRIPTION:Join us for an empowering journey into the world of barbell lifting designed specifically for women like you!\n\nAre you curious about barbell lifting but feel intimidated by the weight room? You're not alone! At our all-female workshop\, we're breaking down barriers and debunking myths about lifting heavy.\n\nLearn the proper techniques for squatting\, benching\, and deadlifting tailored to your body. Say goodbye to doubts and hello to confidence as we demystify these lifts once and for all! Our intro to barbell lifting workshop will include a detailed breakdown and workshop of the squat\, bench\, and deadlift\, followed by a short workout to put your new skills to use.
X-ALT-DESC;FMTTYPE=text/html:<p>Join us for an empowering journey into the world of barbell lifting designed specifically for women like you!</p>\n\n<p>Are you curious about barbell lifting but feel intimidated by the weight room? You&#39\;re not alone! At our all-female workshop\, we&#39\;re breaking down barriers and debunking myths about lifting heavy.</p>\n\n<p>Learn the proper techniques for squatting\, benching\, and deadlifting tailored to your body. Say goodbye to doubts and hello to confidence as we demystify these lifts once and for all! Our intro to barbell lifting workshop will include a detailed breakdown and workshop of the squat\, bench\, and deadlift\, followed by a short workout to put your new skills to use.</p>\n
LOCATION:4747 N ASHLAND AVE
UID:e.2566.11871
SEQUENCE:3
DTSTAMP:20260422T001452Z
URL:https://business.ravenswoodchicago.org/events/details/women-s-only-intro-to-barbell-lifting-workshop-11871
END:VEVENT

END:VCALENDAR
