BEGIN:VCALENDAR
VERSION:2.0
PRODID:-//ChamberMaster//Event Calendar 2.0//EN
METHOD:PUBLISH
X-PUBLISHED-TTL:P3D
REFRESH-INTERVAL:P3D
CALSCALE:GREGORIAN
BEGIN:VEVENT
DTSTART:20240523T210000Z
DTEND:20240523T230000Z
X-MICROSOFT-CDO-ALLDAYEVENT:FALSE
SUMMARY:Women Leaders in Business: Spring Networking
DESCRIPTION:Expand your network of leaders\, entrepreneurs and artisans!\n\n\n\n\nThe Greater Ravenswood Chamber of Commerce invites you to our first Women Leaders in Business event of the year! Join us Thursday\, May 23 at Indigo + Violet Studio to connect with local women leaders\, entrepreneurs and artisans.\n\n\nDid you know that more than 55% of GRCC member businesses are women-owned? This event offers a great opportunity to strengthen your ties to this dynamic\, diverse\, and powerful segment of the Ravenswood community.\n\n\nAttendees will enjoy small bites from Caf  M s\, the neighborhood's newest vegan and culinary event space\, and Penelope's Vegan Taqueria as well as craft mocktail tastings from Ravenswood's up-and-coming mobile bartending company Chuchaqui Cocktails. We'll also be featuring pours of Pink Boots Society's 2024 brew release\, Riveting Rouge\, provided by Dovetail Brewery.\n\n\nGuests will also have the opportunity to get crafty! There will be a mini wall hanging station complete with yarn and brass rings to make and take home as a memento.\n\n\n\nTickets include admission\, small bites\, and refreshments. Registration closes at noon on Tuesday\, May 21st. A limited number of tickets are available.
X-ALT-DESC;FMTTYPE=text/html:<h3><!-- wp:heading {"level":3} --></h3>\n\n<h3 class="wp-block-heading"><em>Expand your network of leaders\, entrepreneurs and artisans!</em></h3>\n<!-- /wp:heading --><!-- wp:paragraph -->\n\n<p><!-- wp:paragraph --></p>\n\n<p>The Greater Ravenswood Chamber of Commerce invites you to our first Women Leaders in Business event of the year! Join us Thursday\, May 23 at Indigo + Violet Studio to connect with local women leaders\, entrepreneurs and artisans.</p>\n<!-- /wp:paragraph --><!-- wp:paragraph -->\n\n<p>Did you know that more than 55% of GRCC member businesses are women-owned? This event offers a great opportunity to strengthen your ties to this dynamic\, diverse\, and powerful segment of the Ravenswood community.</p>\n<!-- /wp:paragraph --><!-- wp:paragraph -->\n\n<p>Attendees will enjoy small bites from <a href="https://www.cafemaschicago.com" rel="noreferrer noopener" target="_blank">Caf&eacute\; M&aacute\;s</a>\, the neighborhood&#39\;s newest vegan and culinary event space\, and <a href="https://penelopesvegantaqueria.com/" rel="noreferrer noopener" target="_blank">Penelope&#39\;s Vegan Taqueria</a> as well as craft mocktail tastings from Ravenswood&#39\;s up-and-coming mobile bartending company <a href="https://www.pinkbootssociety.org/" rel="noreferrer noopener" target="_blank">Chuchaqui Cocktails</a>. We&#39\;ll also be featuring pours of <a href="https://www.pinkbootssociety.org/">Pink Boots Society&#39\;s</a> 2024 brew release\, Riveting Rouge\, provided by <a href="https://dovetailbrewery.com/" rel="noreferrer noopener" target="_blank">Dovetail Brewery</a>.</p>\n<!-- /wp:paragraph --><!-- wp:paragraph -->\n\n<p>Guests will also have the opportunity to get crafty! There will be a mini wall hanging station complete with yarn and brass rings to make and take home as a memento.<!-- /wp:paragraph --><br />\n<br />\nTickets include admission\,&nbsp\;small bites\, and refreshments. <strong><mark class="has-inline-color has-primary-mid-color">Registration closes at noon on Tuesday\, May 21st</mark></strong>. A limited number of tickets are available.</p>\n
LOCATION:Indigo & Violet Studio 1411 W. Irving Park Rd Chicago\, IL 60613
UID:e.2566.8359
SEQUENCE:3
DTSTAMP:20260422T001126Z
URL:https://business.ravenswoodchicago.org/events/details/women-leaders-in-business-spring-networking-8359
END:VEVENT

END:VCALENDAR
