BEGIN:VCALENDAR
VERSION:2.0
PRODID:-//ChamberMaster//Event Calendar 2.0//EN
METHOD:PUBLISH
X-PUBLISHED-TTL:P3D
REFRESH-INTERVAL:P3D
CALSCALE:GREGORIAN
BEGIN:VEVENT
DTSTART:20250621T170000Z
DTEND:20250621T190000Z
X-MICROSOFT-CDO-ALLDAYEVENT:FALSE
SUMMARY:William Gill - Modern (Horton-based) Masterclass @ Joel Hall Dancers & Center\, 4511 N. Clark Street\, Chicago\, IL
DESCRIPTION:Joel Hall Dancers & Center\npresent our Masterclass series:\n\n \nWilliam Gill - Modern (Horton-based) Masterclass\n\nDate: Saturday\, June 21st\, 2025\n\nTime: 12:00pm-2:00pm (2hr)\n\nRSVP ($25)\n\n\nJoin Artistic Director William Gill for a two-hour masterclass in modern (Horton-based) technique!\n\n \n\nWilliam Gill (he/him) is a Chicago native who has taught and danced professionally throughout the US and internationally for the past 25 years. Will has worked with such noted dance legends as Donald Byrd\, Alonzo King\, Donald McKayle\, and Milton Myers\, (just to name a few)\, all while dancing for the acclaimed Dallas Black Dance Theatre for 9 seasons. One of many highlights with Dallas Black was when Will performed the legendary solo "Ostrich" at the Austrian Dance Festival\, choreographed by the renowned Asadata Dafora.\n\n \n\nMasterclasses give students deeper insights into the choreographic theory and practice of dance - and guides you through excerpts of existing works. \n\n\n\n\nLocation:\n\nJoel Hall Dancers & Center\n\n4511 N. Clark St.\n\nChicago\, IL 60640\n\n(773) 888-0477 x103\n\n\n\nCheck for upcoming events: www.joelhall.org/events
X-ALT-DESC;FMTTYPE=text/html:<h1>Joel Hall Dancers &amp\; Center</h1>\npresent our Masterclass series:<br />\n&nbsp\;\n<h3><strong>William Gill - Modern (Horton-based) Masterclass</strong></h3>\n\n<h3>Date: Saturday\, June 21st\, 2025<br />\nTime: 12:00pm-2:00pm (2hr)<br />\n<a href="https://clients.mindbodyonline.com/classic/ws?studioid=20511&amp\;sclassid=2437&amp\;sDate=6/21/2025&amp\;sLoc=1&amp\;sTG=30&amp\;sType=1">RSVP&nbsp\;</a>($25)</h3>\n\n<div>\n<div>Join&nbsp\;<strong>Artistic Director William Gill</strong>&nbsp\;for a two-hour masterclass in modern (Horton-based) technique!</div>\n\n<div>&nbsp\;</div>\n\n<div>William Gill (he/him) is a Chicago native who has taught and danced professionally throughout the US and internationally for the past 25 years. Will has worked with such noted dance legends as Donald Byrd\, Alonzo King\, Donald McKayle\, and Milton Myers\, (just to name a few)\, all while dancing for the acclaimed Dallas Black Dance Theatre for 9 seasons. One of many highlights with Dallas Black was when Will performed the legendary solo &ldquo\;Ostrich&rdquo\; at the Austrian Dance Festival\, choreographed by the renowned Asadata Dafora.</div>\n\n<div>&nbsp\;</div>\n\n<div>Masterclasses give students deeper insights into the choreographic theory and practice of dance - and guides you through excerpts of existing works.&nbsp\;</div>\n</div>\n\n<p><br />\n<strong>Location</strong>:<br />\nJoel Hall Dancers &amp\; Center<br />\n4511 N. Clark St.<br />\nChicago\, IL 60640<br />\n(773) 888-0477 x103</p>\n\n<p><br />\nCheck for upcoming events:&nbsp\;<a href="https://www.joelhall.org/events">www.joelhall.org/events</a></p>\n\n<p>&nbsp\;</p>\n
LOCATION:Joel Hall Dancers & Center 4511 N. Clark Street Chicago\, IL 60640
UID:e.2566.13876
SEQUENCE:3
DTSTAMP:20260421T015512Z
URL:https://business.ravenswoodchicago.org/events/details/william-gill-modern-horton-based-masterclass-joel-hall-dancers-center-4511-n-clark-street-chicago-il-13876
END:VEVENT

END:VCALENDAR
