BEGIN:VCALENDAR
VERSION:2.0
PRODID:-//ChamberMaster//Event Calendar 2.0//EN
METHOD:PUBLISH
X-PUBLISHED-TTL:P3D
REFRESH-INTERVAL:P3D
CALSCALE:GREGORIAN
BEGIN:VEVENT
DTSTART:20250123T010000Z
DTEND:20250123T020000Z
X-MICROSOFT-CDO-ALLDAYEVENT:FALSE
SUMMARY:Warm up in Winter Cocktail Class
DESCRIPTION:The evening will begin with a sneak peek into our distillery and right into cocktail creation!\n\nParticipants through making three cocktails. During this class\, you will learn how to make three delicious cocktails using a different spirit for each. Cocktails include Nutty chocolate old-fashioned\, peppermint espresso martini\, and cranberry hot toddy.\n\nClass includes the instruction and enjoyment of 3 cocktails\, with the guidance of an instructor and provided recipes. All bartending equipment is included - show up ready to learn!\n\n\n	10% discount on all KOVAL products\, available for purchase after class
X-ALT-DESC;FMTTYPE=text/html:<p>The evening will begin with a sneak peek into our distillery and right into cocktail creation!</p>\n\n<p>Participants through making three cocktails. During this class\, you will learn how to make three delicious cocktails using a different spirit for each. Cocktails include Nutty chocolate old-fashioned\, peppermint espresso martini\, and cranberry hot toddy.</p>\n\n<p>Class includes the instruction and enjoyment of 3 cocktails\, with the guidance of an instructor and provided recipes. All bartending equipment is included - show up ready to learn!</p>\n\n<ul>\n	<li><strong>10% discount on all KOVAL products\, available for purchase after class</strong></li>\n</ul>\n
LOCATION:KOVAL Distillery 4241 N Ravenswood Ave Chicago\, IL 60613
UID:e.2566.12307
SEQUENCE:3
DTSTAMP:20260421T101615Z
URL:https://business.ravenswoodchicago.org/events/details/whiskey-cocktail-class-01-22-2025-12307
END:VEVENT

END:VCALENDAR
