BEGIN:VCALENDAR
VERSION:2.0
PRODID:-//ChamberMaster//Event Calendar 2.0//EN
METHOD:PUBLISH
X-PUBLISHED-TTL:P3D
REFRESH-INTERVAL:P3D
CALSCALE:GREGORIAN
BEGIN:VEVENT
DTSTART:20240728T190000Z
DTEND:20240728T220000Z
X-MICROSOFT-CDO-ALLDAYEVENT:FALSE
SUMMARY:Watch Party: USA vs. Germany Women's Soccer Olympic Match
DESCRIPTION:Doors open one hour before game time Schau Fu ball mit uns! Join us for a watch party of the USA vs. Germany women's soccer match during the Paris Olympics! Food and drink will be available for purchase. RSVP online for a chance to win special prizes from the Chicago Red Stars! Cost: $5 suggested donation This event is presented in partnership with The Chicago Red Stars. Free parking at 5/3 Bank after 6:00 PM located at Western and Gunnison
X-ALT-DESC;FMTTYPE=text/html:Doors open one hour before game time Schau Fu&szlig\;ball mit uns! Join us for a watch party of the USA vs. Germany women&#39\;s soccer match during the Paris Olympics! Food and drink will be available for purchase. RSVP online for a chance to win special prizes from the Chicago Red Stars! Cost: $5 suggested donation This event is presented in partnership with The Chicago Red Stars. Free parking at 5/3 Bank after 6:00 PM located at Western and Gunnison
LOCATION:DANK Haus German American Cultural Center 4740 N Western Ave. Chicago\, IL 60625
UID:e.2566.11898
SEQUENCE:3
DTSTAMP:20260421T195112Z
URL:https://business.ravenswoodchicago.org/events/details/watch-party-usa-vs-germany-women-s-soccer-olympic-match-11898
END:VEVENT

END:VCALENDAR
