BEGIN:VCALENDAR
VERSION:2.0
PRODID:-//ChamberMaster//Event Calendar 2.0//EN
METHOD:PUBLISH
X-PUBLISHED-TTL:P3D
REFRESH-INTERVAL:P3D
CALSCALE:GREGORIAN
BEGIN:VEVENT
DTSTART:20240420T150000Z
DTEND:20240420T230000Z
X-MICROSOFT-CDO-ALLDAYEVENT:FALSE
SUMMARY:Warehouse Sale
DESCRIPTION:Save the date for Mata Traders' Spring Warehouse Sale! Help us clear some room in our warehouse before our new styles arrive for the summer season. Bring your friends or family to shop samples and seconds of ethically made apparel and jewelry...all at amazing discounted prices. We've got you covered: dresses\, pants\, skirts\, and tops in fun colorful prints\, plaids\, and solid colors. Our Fair Trade line is known for its handmade details including embroidery\, block printing\, and screen printing. Get first dibs by purchasing our Totes Good Deal and get access to the sale before everyone else. We can't wait to see you there!
X-ALT-DESC;FMTTYPE=text/html:Save the date for Mata Traders&rsquo\; Spring Warehouse Sale! Help us clear some room in our warehouse before our new styles arrive for the summer season. Bring your friends or family to shop samples and seconds of ethically made apparel and jewelry...all at amazing discounted prices. We&#39\;ve got you covered: dresses\, pants\, skirts\, and tops in fun colorful prints\, plaids\, and solid colors. Our Fair Trade line is known for its handmade details including embroidery\, block printing\, and screen printing. Get first dibs by purchasing our Totes Good Deal and get access to the sale before everyone else. We can&rsquo\;t wait to see you there!
LOCATION:5112 N. Ravenswood Ave\, Chicago\, IL 60640
UID:e.2566.8392
SEQUENCE:3
DTSTAMP:20260422T014614Z
URL:https://business.ravenswoodchicago.org/events/details/warehouse-sale-8392
END:VEVENT

END:VCALENDAR
