BEGIN:VCALENDAR
VERSION:2.0
PRODID:-//ChamberMaster//Event Calendar 2.0//EN
METHOD:PUBLISH
X-PUBLISHED-TTL:P3D
REFRESH-INTERVAL:P3D
CALSCALE:GREGORIAN
BEGIN:VEVENT
DTSTART:20241031T000000Z
DTEND:20241031T020000Z
X-MICROSOFT-CDO-ALLDAYEVENT:FALSE
SUMMARY:Varo String Quartet Returns to Rosehill Cemetery
DESCRIPTION:Varo String Quartet presents their second multi-genre concert at the Horatio N May Chapel in Rosehill Cemetery. Blending sounds ranging from the traditional to the terrifying\, VSQ will present works by Luis Fernando Amaya\, Jonathan Hannau\, Joseph Haydn\, and Gyorgy Ligeti in a smorgasbord of spooky sounds. Contemporary works by Amaya and Hannau\, a string quartet in C Major by Haydn with perhaps more hidden depths\, and the challenging and thoroughly creepy String Quartet No. 1 "M tamorphoses nocturnes" by Gyorgy Ligeti combine for an evening of Halloween-themed classical music that will surprise\, scare\, and delight. Program: String Quartet\, Opus 20\, No. 2   Joseph Haydn Dialecto de  rbol no. 4   Luis Fernando Amaya 5 Miniatures for String Quartet**   Jonathan Hannau String Quartet No. 1 "M tamorphoses nocturnes"   Gyorgy Ligeti ** denotes world premiere
X-ALT-DESC;FMTTYPE=text/html:Varo String Quartet presents their second multi-genre concert at the Horatio N May Chapel in Rosehill Cemetery. Blending sounds ranging from the traditional to the terrifying\, VSQ will present works by Luis Fernando Amaya\, Jonathan Hannau\, Joseph Haydn\, and Gyorgy Ligeti in a smorgasbord of spooky sounds. Contemporary works by Amaya and Hannau\, a string quartet in C Major by Haydn with perhaps more hidden depths\, and the challenging and thoroughly creepy String Quartet No. 1 &ldquo\;M&eacute\;tamorphoses nocturnes&rdquo\; by Gyorgy Ligeti combine for an evening of Halloween-themed classical music that will surprise\, scare\, and delight. Program: String Quartet\, Opus 20\, No. 2 &ndash\; Joseph Haydn Dialecto de &Aacute\;rbol no. 4 &ndash\; Luis Fernando Amaya 5 Miniatures for String Quartet** &ndash\; Jonathan Hannau String Quartet No. 1 &ldquo\;M&eacute\;tamorphoses nocturnes&rdquo\; &ndash\; Gyorgy Ligeti ** denotes world premiere
LOCATION:Rosehill Cemetery
UID:e.2566.11983
SEQUENCE:3
DTSTAMP:20260421T140817Z
URL:https://business.ravenswoodchicago.org/events/details/varo-string-quartet-returns-to-rosehill-cemetery-11983
END:VEVENT

END:VCALENDAR
