BEGIN:VCALENDAR
VERSION:2.0
PRODID:-//ChamberMaster//Event Calendar 2.0//EN
METHOD:PUBLISH
X-PUBLISHED-TTL:P3D
REFRESH-INTERVAL:P3D
CALSCALE:GREGORIAN
BEGIN:VEVENT
DTSTART;VALUE=DATE:20240624
DTEND;VALUE=DATE:20240625
TRANSP:TRANSPARENT
X-MICROSOFT-CDO-ALLDAYEVENT:TRUE
SUMMARY:Tuesday's Child Summer Camp
DESCRIPTION:8 Week Behavioral Summer Camp\n\nThe Tuesday's Child behavioral summer camp is a phenomenal opportunity for children ages six and younger. They'll receive behavioral support in a fun\, peer-based environment. With academic support and interventions to keep children learning and growing\, our summer camp prepares children to enter school in the fall ready to learn.\n\nWho's A Good Fit?\n\nTuesday's Child\, Chicago's Behavior Management Experts\, works with young children experiencing behavioral challenges that may prevent them from being successful in other summer camps. We provide structured\, supervised socialization to campers. Many children in our camp are working on:\n\n         Following directions\n\n         Playing cooperatively\n\n         Interacting appropriately with peers\n\n         Generalizing these skills into community settings\n\nPacked With Fun & Focused On Behavior\n\nThis year's camp is expected to be a great experience   just like last year's   with daily visits to the park\, new themes\, and fresh activities. Tuesday's Child will also be offering field trips for full day 8-week campers. (If interested in field trips- register for the Adventure Package on the registration form below). Each child receives an individualized goal plan(s) to work on throughout the summer. Our summer camp concludes with an awards ceremony for everyone who attends   recognizing each child's unique strengths.\n\nSchedule\n\nJune 24-August 16\, 2024  (OFF 7/4)\n\nMonday-Thursday: 9:00 AM   3:00 PM\n\nFridays 9:00 AM   12:00 PM\n\nBefore care optional: 8:00 AM   9:00 AM\n\nSummer Camp 2024 Registration Download
X-ALT-DESC;FMTTYPE=text/html:<p><span style="color:rgb(34\, 34\, 34)\; font-size:24px">8 Week Behavioral Summer Camp</span></p>\n\n<p>The Tuesday&rsquo\;s Child behavioral summer camp is a phenomenal opportunity for children ages six and younger. They&rsquo\;ll receive behavioral support in a fun\, peer-based environment. With academic support and interventions to keep children learning and growing\, our summer camp prepares children to enter school in the fall ready to learn.</p>\n\n<h4><u><strong>Who&rsquo\;s A Good Fit?</strong></u></h4>\n\n<p>Tuesday&rsquo\;s Child\,&nbsp\;<a href="https://www.tuesdayschildchicago.org/about-uschicago-non-profit-organization/" style="color: rgb(15\, 190\, 124)\; box-sizing: border-box\; border: 0px\; font-variant: inherit\; font-stretch: inherit\; line-height: inherit\; font-family: inherit\; font-optical-sizing: inherit\; font-kerning: inherit\; font-feature-settings: inherit\; font-variation-settings: inherit\; font-style: inherit\; font-weight: inherit\; margin: 0px\; outline: 0px\; padding: 0px\; vertical-align: baseline\; text-decoration-line: none\; transition: all 0.5s ease 0s\; box-shadow: none\;">Chicago&rsquo\;s Behavior Management Experts</a>\, works with young children experiencing behavioral challenges that may prevent them from being successful in other summer camps. We provide structured\, supervised socialization to campers. Many children in our camp are working on:</p>\n\n<p>&nbsp\;&nbsp\;&nbsp\;&nbsp\;&nbsp\; &nbsp\; &nbsp\;Following directions<br />\n&nbsp\;&nbsp\;&nbsp\;&nbsp\;&nbsp\; &nbsp\; &nbsp\;Playing cooperatively<br />\n&nbsp\; &nbsp\; &nbsp\; &nbsp\; &nbsp\;Interacting appropriately with peers<br />\n&nbsp\; &nbsp\; &nbsp\; &nbsp\; &nbsp\;Generalizing these skills into community settings</p>\n\n<h4><u><strong>Packed With Fun &amp\; Focused On Behavior</strong></u></h4>\n\n<p>This year&rsquo\;s camp is expected to be a great experience &ndash\; just like last year&rsquo\;s &ndash\; with daily visits to the park\, new themes\, and fresh activities. Tuesday&rsquo\;s Child will also be offering field trips for full day 8-week campers. (If interested in field trips- register for the Adventure Package on the registration form below). Each child receives an individualized goal plan(s) to work on throughout the summer. Our summer camp concludes with an awards ceremony for everyone who attends &ndash\; recognizing each child&rsquo\;s unique strengths.</p>\n\n<p>Schedule</p>\n\n<p><strong>June 24-August 16\, 2024&ndash\; (OFF 7/4)</strong></p>\n\n<p>Monday-Thursday: 9:00 AM &ndash\; 3:00 PM<br />\nFridays 9:00 AM &ndash\; 12:00 PM<br />\nBefore care optional: 8:00 AM &ndash\; 9:00 AM<br />\n<a href="https://www.tuesdayschildchicago.org/wp-content/uploads/2024/01/FINAL-SC-FORM-2024.-PDF-1.pdf" style="color: rgb(15\, 190\, 124)\; box-sizing: border-box\; border: 0px\; font-variant-numeric: inherit\; font-variant-east-asian: inherit\; font-variant-alternates: inherit\; font-variant-position: inherit\; font-stretch: inherit\; line-height: inherit\; font-family: Roboto\, sans-serif\; font-optical-sizing: inherit\; font-kerning: inherit\; font-feature-settings: inherit\; font-variation-settings: inherit\; font-size: 12.8px\; margin: 0px\; outline: dotted thin\; padding: 0px\; vertical-align: baseline\; text-decoration-line: none\; transition: all 0.5s ease 0s\; box-shadow: none\; background-color: rgb(255\, 255\, 255)\;"><span style="font-family:inherit\; font-size:16px">Summer Camp 2024 Registration</span>&nbsp\;<span style="font-family:inherit\; font-size:16px">Download</span></a></p>\n
LOCATION:3633 N. California ave. Chicago\, IL 60618
UID:e.2566.8395
SEQUENCE:3
DTSTAMP:20260421T223907Z
URL:https://business.ravenswoodchicago.org/events/details/tuesday-s-child-summer-camp-8395
END:VEVENT

END:VCALENDAR
