BEGIN:VCALENDAR
VERSION:2.0
PRODID:-//ChamberMaster//Event Calendar 2.0//EN
METHOD:PUBLISH
X-PUBLISHED-TTL:P3D
REFRESH-INTERVAL:P3D
CALSCALE:GREGORIAN
BEGIN:VEVENT
DTSTART:20250410T230000Z
DTEND:20250411T020000Z
X-MICROSOFT-CDO-ALLDAYEVENT:FALSE
SUMMARY:Trivia Night
DESCRIPTION:Join The Friendship Center for an evening of great food\, trivia\, split-the-pot\, a cash bar\, and amazing raffles\, guests will get an opportunity to help generate 200\,000 meals for our neighbors facing hunger. All event proceeds will help provide access to fresh food and vital resources to our estimated 70\,000 neighbors facing hunger in Chicago's NW neighborhoods. Trivia Night is produced by our Associate Board\, a group of passionate professionals committed to ending hunger in our community.
X-ALT-DESC;FMTTYPE=text/html:Join The Friendship Center for an evening of great food\, trivia\, split-the-pot\, a cash bar\, and amazing raffles\, guests will get an opportunity to help generate 200\,000 meals for our neighbors facing hunger. All event proceeds will help provide access to fresh food and vital resources to our estimated 70\,000 neighbors facing hunger in Chicago&rsquo\;s NW neighborhoods. Trivia Night is produced by our Associate Board\, a group of passionate professionals committed to ending hunger in our community.
LOCATION:River Room at Burning Bush Brewery\, 4018 N Rockwell St\, Chicago\, IL 60618
UID:e.2566.13611
SEQUENCE:3
DTSTAMP:20260421T044506Z
URL:https://business.ravenswoodchicago.org/events/details/trivia-night-13611
END:VEVENT

END:VCALENDAR
