BEGIN:VCALENDAR
VERSION:2.0
PRODID:-//ChamberMaster//Event Calendar 2.0//EN
METHOD:PUBLISH
X-PUBLISHED-TTL:P3D
REFRESH-INTERVAL:P3D
CALSCALE:GREGORIAN
BEGIN:VEVENT
DTSTART:20250126T003000Z
DTEND:20250126T033000Z
X-MICROSOFT-CDO-ALLDAYEVENT:FALSE
SUMMARY:Tom Lowery Trio at Rojo Gusano
DESCRIPTION:The Tom Lowery Trio will be performing at Rojo Gusano 6:30-9:30PM. The trio plays jazz classics and standards from the Great American Songbook.
X-ALT-DESC;FMTTYPE=text/html:<span style="color:rgb(36\, 36\, 36)\; font-family:arial\,sans-serif\; font-size:13.3333px">The Tom Lowery Trio will be performing at&nbsp\;</span><span style="color:rgb(36\, 36\, 36)\; font-family:arial\,sans-serif\; font-size:13.3333px">Rojo</span><span style="color:rgb(36\, 36\, 36)\; font-family:arial\,sans-serif\; font-size:13.3333px">&nbsp\;Gusano 6:30-9:30PM. The trio plays jazz classics and standards from the Great American Songbook.</span>
LOCATION:Rojo Gusano 4217 N Ravenswood Ave
UID:e.2566.13217
SEQUENCE:3
DTSTAMP:20260421T101725Z
URL:https://business.ravenswoodchicago.org/events/details/tom-lowery-trio-at-rojo-gusano-13217
END:VEVENT

END:VCALENDAR
