BEGIN:VCALENDAR
VERSION:2.0
PRODID:-//ChamberMaster//Event Calendar 2.0//EN
METHOD:PUBLISH
X-PUBLISHED-TTL:P3D
REFRESH-INTERVAL:P3D
CALSCALE:GREGORIAN
BEGIN:VEVENT
DTSTART:20250426T230000Z
DTEND:20250427T023000Z
X-MICROSOFT-CDO-ALLDAYEVENT:FALSE
SUMMARY:Tom Lowery Trio
DESCRIPTION:Make your dinner plans now! Tacos\, Tequila\, Mezcal & Handmade Tortillas\, simply put\, Rojo Gusano is DELICIOUS! This evening\, along with dinner\, enjoy the Tom Lowery Trio. Michael Crane-bass\, Tom Lowery-drums\, and Steve Kaiser-guitar play jazz favorites and standards. Hope to see you there!
X-ALT-DESC;FMTTYPE=text/html:Make your dinner plans now! Tacos\, Tequila\, Mezcal &amp\; Handmade Tortillas\, simply put\, Rojo Gusano is DELICIOUS! This evening\, along with dinner\, enjoy the Tom Lowery Trio. Michael Crane-bass\, Tom Lowery-drums\, and Steve Kaiser-guitar play jazz favorites and standards. Hope to see you there!
LOCATION:Rojo Gusano 4217 N Ravenswood Ave Chicago\, IL 60613
UID:e.2566.13861
SEQUENCE:3
DTSTAMP:20260421T044508Z
URL:https://business.ravenswoodchicago.org/events/details/tom-lowery-trio-13861
END:VEVENT

END:VCALENDAR
