BEGIN:VCALENDAR
VERSION:2.0
PRODID:-//ChamberMaster//Event Calendar 2.0//EN
METHOD:PUBLISH
X-PUBLISHED-TTL:P3D
REFRESH-INTERVAL:P3D
CALSCALE:GREGORIAN
BEGIN:VEVENT
DTSTART:20240508T220000Z
DTEND:20240509T000000Z
X-MICROSOFT-CDO-ALLDAYEVENT:FALSE
SUMMARY:Thrivent Financial and Gabriel's Light Fund at Oromo Cafe
DESCRIPTION:Community is our best investment.\n\n\n\nThe community needs you. We help you answer the call by providing the means to take action. Join us to learn more about: Teen Suicide Prevention and Gabriel's Light Fund.\n\n\n\nPlease join us at OROMO CAFE\, hosted by your local Thrivent Community and Gabriel's Light Fund.\n\n\n\nFREE BEVERAGE OF CHOICE\n\n\n\nDouble your support and bring a guest.
X-ALT-DESC;FMTTYPE=text/html:Community is our best investment.<br />\n<br />\nThe community needs you. We help you answer the call by providing the means to take action. Join us to learn more about: Teen Suicide Prevention and Gabriel&rsquo\;s Light Fund.<br />\n<br />\nPlease join us at OROMO CAFE\, hosted by your local Thrivent Community and Gabriel&rsquo\;s Light Fund.<br />\n<br />\nFREE BEVERAGE OF CHOICE<br />\n<br />\nDouble your support and bring a guest.
LOCATION:OROMO CAFE 4703 N. Lincoln Ave Chicago\, IL
UID:e.2566.8419
SEQUENCE:3
DTSTAMP:20260422T001150Z
URL:https://business.ravenswoodchicago.org/events/details/thrivent-financial-and-gabriel-s-light-fund-at-oromo-cafe-8419
END:VEVENT

END:VCALENDAR
