BEGIN:VCALENDAR
VERSION:2.0
PRODID:-//ChamberMaster//Event Calendar 2.0//EN
METHOD:PUBLISH
X-PUBLISHED-TTL:P3D
REFRESH-INTERVAL:P3D
CALSCALE:GREGORIAN
BEGIN:VEVENT
DTSTART:20240419T140000Z
DTEND:20240419T160000Z
X-MICROSOFT-CDO-ALLDAYEVENT:FALSE
SUMMARY:Therapist Networking Event
DESCRIPTION:Join the clinicians of Mind Body Connections and other mental health professionals for a therapist networking event designed to increase your community connections and expand your referral network! Light refreshments provided.\n\n9:00-9:30 Meet and Greet\n\n9:30-10:30 Dedicated Networking Activity\n\n10:30-11:00 Continued Connection
X-ALT-DESC;FMTTYPE=text/html:<p>Join the clinicians of Mind Body Connections and other mental health professionals for a therapist networking event designed to increase your community connections and expand your referral network! Light refreshments provided.</p>\n\n<p><strong>9:00-9:30</strong> Meet and Greet</p>\n\n<p><strong>9:30-10:30</strong> Dedicated Networking Activity</p>\n\n<p><strong>10:30-11:00</strong>&nbsp\;Continued Connection</p>\n\n<p>&nbsp\;</p>\n
LOCATION:1802 W Berteau\, #205 Chicago\, IL 60613
UID:e.2566.8369
SEQUENCE:3
DTSTAMP:20260422T014527Z
URL:https://business.ravenswoodchicago.org/events/details/therapist-networking-event-8369
END:VEVENT

END:VCALENDAR
