BEGIN:VCALENDAR
VERSION:2.0
PRODID:-//ChamberMaster//Event Calendar 2.0//EN
METHOD:PUBLISH
X-PUBLISHED-TTL:P3D
REFRESH-INTERVAL:P3D
CALSCALE:GREGORIAN
BEGIN:VEVENT
DTSTART:20240411T230000Z
DTEND:20240414T230000Z
X-MICROSOFT-CDO-ALLDAYEVENT:FALSE
SUMMARY:The Other Art Fair
DESCRIPTION:The Other Art Fair by Saatchi Art returns to Artifact Events for the second year. Local\, national\, and international artists exhibit at this juried fine art fair. Say "Hi" to local Ravenswood artist Karen Remsen at booth #7 and use code REMSEN20 for 20% off your tickets.
X-ALT-DESC;FMTTYPE=text/html:The Other Art Fair by Saatchi Art returns to Artifact Events for the second year. Local\, national\, and international artists exhibit at this juried fine art fair. Say &quot\;Hi&quot\; to local Ravenswood artist Karen Remsen at booth #7 and use code REMSEN20 for 20% off your tickets.
LOCATION:Artifact Events\, 4325 N Ravenswood Ave\, Chicago\, IL 60613
UID:e.2566.8389
SEQUENCE:3
DTSTAMP:20260422T014844Z
URL:https://business.ravenswoodchicago.org/events/details/the-other-art-fair-8389
END:VEVENT

END:VCALENDAR
