BEGIN:VCALENDAR
VERSION:2.0
PRODID:-//ChamberMaster//Event Calendar 2.0//EN
METHOD:PUBLISH
X-PUBLISHED-TTL:P3D
REFRESH-INTERVAL:P3D
CALSCALE:GREGORIAN
BEGIN:VEVENT
DTSTART:20250327T230000Z
DTEND:20250330T230000Z
X-MICROSOFT-CDO-ALLDAYEVENT:FALSE
SUMMARY:The Other Art Fair
DESCRIPTION:Over 100 artists come from around the city\, country\, and world for one weekend in this juried fine art fair hosted by Saatchi. Artists offer originals and prints at a variety of price points. Say hi to local Ravenswood artist Karen Remsen and use KAREN20 for 20% off your ticket.
X-ALT-DESC;FMTTYPE=text/html:Over 100 artists come from around the city\, country\, and world for one weekend in this juried fine art fair hosted by Saatchi. Artists offer originals and prints at a variety of price points. Say hi to local Ravenswood artist Karen Remsen and use KAREN20 for 20% off your ticket.
LOCATION:Artifact Events\, 4325 N Ravenswood Ave
UID:e.2566.13620
SEQUENCE:3
DTSTAMP:20260421T073856Z
URL:https://business.ravenswoodchicago.org/events/details/the-other-art-fair-03-27-2025-13620
END:VEVENT

END:VCALENDAR
