BEGIN:VCALENDAR
VERSION:2.0
PRODID:-//ChamberMaster//Event Calendar 2.0//EN
METHOD:PUBLISH
X-PUBLISHED-TTL:P3D
REFRESH-INTERVAL:P3D
CALSCALE:GREGORIAN
BEGIN:VEVENT
DTSTART:20200502T000000Z
DTEND:20200502T020000Z
X-MICROSOFT-CDO-ALLDAYEVENT:FALSE
SUMMARY:The 3 B's: "A Concert of Music by Bach\, Beethoven and Brahms"
DESCRIPTION:Come and enjoy a live performance in our 5th Floor ballroom showcasing the works of three of Germany's most beloved composers\, "The Three Bs: A Concert of Music by Bach\, Beethoven and Brahms." This special concert will feature the singing of bass-baritone Andrew Schultze and Svetlana Belsky on the piano in a performance of songs\, arias and keyboard. Andrew Schultze is an active performer\, conductor\, stage director and teacher. He is well known as an interpreter of the standard opera/oratorio repertoire\, as a concert singer\, and as a specialist in the performance of early music. He has performed around the world including Austria\, France\, Italy and more. His rich voice and lively conversation is welcome by guests and audience members. Andrew will be accompanied by Svetlana Belsky is an in-demand recitalist and chamber pianist\, noted for her remarkable rapport with audiences and stylistic versatility. She has appeared in the Ukraine\, Russia\, Poland\, China\, Taiwan and Hong Kong\, and throughout the United States. Her performance credits include Carnegie Recital Hall\, Kiev Philharmonic Hall\, Dame Myra Hess Series\, Music in the Loft\, countless university concert series\, live recitals on Chicago's WFMT and New York's WQXR\, and guest appearances with the University of Chicago Symphony\, Southern Illinois Symphony\, Chicago Chamber Orchestra and the Tutti Orchestra. Admittance to the performance free. A $5 donation is suggested. Drinks and snacks will be available for purchase. Free parking is located at 5/3 Bank located at Western and Gunnison Avenue.
X-ALT-DESC;FMTTYPE=text/html:Come and enjoy a live performance in our 5th Floor ballroom showcasing the works of three of Germany&#39\;s most beloved composers\, &quot\;The Three Bs: A Concert of Music by Bach\, Beethoven and Brahms.&quot\; This special concert will feature the singing of bass-baritone Andrew Schultze and Svetlana Belsky on the piano in a performance of songs\, arias and keyboard. Andrew Schultze is an active performer\, conductor\, stage director and teacher. He is well known as an interpreter of the standard opera/oratorio repertoire\, as a concert singer\, and as a specialist in the performance of early music. He has performed around the world including Austria\, France\, Italy and more. His rich voice and lively conversation is welcome by guests and audience members. Andrew will be accompanied by Svetlana Belsky is an in-demand recitalist and chamber pianist\, noted for her remarkable rapport with audiences and stylistic versatility. She has appeared in the Ukraine\, Russia\, Poland\, China\, Taiwan and Hong Kong\, and throughout the United States. Her performance credits include Carnegie Recital Hall\, Kiev Philharmonic Hall\, Dame Myra Hess Series\, Music in the Loft\, countless university concert series\, live recitals on Chicago&rsquo\;s WFMT and New York&rsquo\;s WQXR\, and guest appearances with the University of Chicago Symphony\, Southern Illinois Symphony\, Chicago Chamber Orchestra and the Tutti Orchestra. Admittance to the performance free. A $5 donation is suggested. Drinks and snacks will be available for purchase. Free parking is located at 5/3 Bank located at Western and Gunnison Avenue.
LOCATION:DANK Haus\, 4740 N. Western Avenue
UID:e.2566.3972
SEQUENCE:3
DTSTAMP:20260426T035651Z
URL:https://business.ravenswoodchicago.org/events/details/the-3-b-s-a-concert-of-music-by-bach-beethoven-and-brahms-3972
END:VEVENT

END:VCALENDAR
