BEGIN:VCALENDAR
VERSION:2.0
PRODID:-//ChamberMaster//Event Calendar 2.0//EN
METHOD:PUBLISH
X-PUBLISHED-TTL:P3D
REFRESH-INTERVAL:P3D
CALSCALE:GREGORIAN
BEGIN:VEVENT
DTSTART:20250624T220000Z
DTEND:20250627T013000Z
X-MICROSOFT-CDO-ALLDAYEVENT:FALSE
SUMMARY:Technique Intensive
DESCRIPTION:Elevate your skills with our three-day Technique Intensive\, designed to refine movement quality\, strength\, and artistry. This intensive focuses on technical precision\, dynamic movement\, and performance execution\, providing dancers with the tools to enhance their versatility and confidence.\n\n\n\nWhat to Expect:\n\n- Daily technique classes to improve strength\, control\, and alignment\n\n- Across-the-floor progressions emphasizing clarity\, speed\, and fluidity\n\n- Conditioning and flexibility exercises for injury prevention and longevity\n\n- Individualized feedback to maximize growth and refinement
X-ALT-DESC;FMTTYPE=text/html:Elevate your skills with our three-day Technique Intensive\, designed to refine movement quality\, strength\, and artistry. This intensive focuses on technical precision\, dynamic movement\, and performance execution\, providing dancers with the tools to enhance their versatility and confidence.<br />\n<br />\nWhat to Expect:<br />\n-&nbsp\;Daily technique classes to improve strength\, control\, and alignment<br />\n-&nbsp\;Across-the-floor progressions emphasizing clarity\, speed\, and fluidity<br />\n-&nbsp\;Conditioning and flexibility exercises for injury prevention and longevity<br />\n- Individualized feedback to maximize growth and refinement
LOCATION:Dance Colony Studios 4222 N. Ravenswood Ave.\, Suite 102. Entrance C Chicago IL 60613
UID:e.2566.13975
SEQUENCE:3
DTSTAMP:20260421T031622Z
URL:https://business.ravenswoodchicago.org/events/details/technique-intensive-13975
END:VEVENT

END:VCALENDAR
