BEGIN:VCALENDAR
VERSION:2.0
PRODID:-//ChamberMaster//Event Calendar 2.0//EN
METHOD:PUBLISH
X-PUBLISHED-TTL:P3D
REFRESH-INTERVAL:P3D
CALSCALE:GREGORIAN
BEGIN:VEVENT
DTSTART:20240827T233000Z
DTEND:20240828T020000Z
X-MICROSOFT-CDO-ALLDAYEVENT:FALSE
SUMMARY:Tacos & Margarita Glass Painting Event!
DESCRIPTION:Spice up your Tuesday evening with our Tacos & Margarita Glass Painting event!\n\nBring your favorite drink\, and we'll provide the tacos.\n\nEnjoy a fun-filled night of creativity as you paint your own margarita glass or any other pottery pieces.\n\nThe reservation cost includes the studio fee & delicious tacos.\n\nYou'll  pay for the pottery pieces you choose to paint at the studio.\n\nBring your good vibes\, and we'll ensure you have a fantastic time!\n\nJoin us for an unforgettable evening of tacos\, drinks\, and creativity!\n\nGrab your friends\, bring your drinks\, and get ready for a night of laughter and artistry!
X-ALT-DESC;FMTTYPE=text/html:<p style="text-align:center"><em><strong>Spice up your Tuesday evening with our Tacos &amp\; Margarita Glass Painting event!</strong></em></p>\n\n<p style="text-align:center"><em><strong>Bring your favorite drink\, and we&rsquo\;ll provide the tacos.</strong></em></p>\n\n<p style="text-align:center"><em><strong>Enjoy a fun-filled night of creativity as you paint your own margarita glass or any other pottery pieces.</strong></em></p>\n\n<p style="text-align:center"><em><strong>The reservation cost includes the studio fee &amp\; delicious tacos.</strong></em></p>\n\n<p style="text-align:center"><em><strong>You&rsquo\;ll&nbsp\; pay for the pottery pieces you choose to paint at the studio.</strong></em></p>\n\n<p style="text-align:center"><em><strong>Bring your good vibes\, and we&rsquo\;ll ensure you have a fantastic time!</strong></em></p>\n\n<p style="text-align:center"><em><strong>Join us for an unforgettable evening of tacos\, drinks\, and creativity!</strong></em></p>\n\n<p style="text-align:center"><em><strong>Grab your friends\, bring your drinks\, and get ready for a night of laughter and artistry!</strong></em></p>\n
LOCATION:COLOR ME MINE 3849 N LINCOLN AVE CHICAGO\, IL 60613
UID:e.2566.11928
SEQUENCE:3
DTSTAMP:20260421T172654Z
URL:https://business.ravenswoodchicago.org/events/details/tacos-margarita-glass-painting-event-11928
END:VEVENT

END:VCALENDAR
