BEGIN:VCALENDAR
VERSION:2.0
PRODID:-//ChamberMaster//Event Calendar 2.0//EN
METHOD:PUBLISH
X-PUBLISHED-TTL:P3D
REFRESH-INTERVAL:P3D
CALSCALE:GREGORIAN
BEGIN:VEVENT
DTSTART;VALUE=DATE:20241213
DTEND;VALUE=DATE:20241214
TRANSP:TRANSPARENT
X-MICROSOFT-CDO-ALLDAYEVENT:TRUE
SUMMARY:Swifties Night - Era’s Trivia & Painting Night
DESCRIPTION:Join Us for an Enchanted Evening: 'In My Creative Era' Trivia and Painting Night as we celebrate our favorite Pop Star's Birthday!\n\nAre you ready for a night that will never go out of Style?\n\n December 13th  from 5PM to 7PM at\n\nColor Me Mine\, North Center for an unforgettable 'In My Creative Era' Trivia and Painting Night!\n\nFor just $15 per person\, you'll get to enjoy:\n\n  Studio fee\n\n  Snacks to keep you energized while you Shake It Off\n\n  TS trivia that will make you feel like you're in Wonderland\n\nBut wait\, there's more!\n\nYou'll have the chance to choose your own blank space pottery piece on the day of the event (additional charges apply).\n\nSo whether you want to paint a delicate teacup or a Fearless figurine\, we have something for every Swiftie.\n\nDon't let this opportunity slip away like a Love Story!\n\nGather your friends and come ready to paint the town Red. Tickets are limited\, so grab yours before they're gone in a Blink.\n\nWe can't wait to see you there   it's going to be a night that you'll remember All Too Well.\n\nDetails:\n\n  Total time is approx 2 hrs.\n\n  Please arrive 15 mins prior to select your pottery pieces\n\n  BYOB is always welcome (21+) \n\nPottery will be ready within 10 days of the even
X-ALT-DESC;FMTTYPE=text/html:<p><strong><span style="font-size:14.0pt">Join Us for an Enchanted Evening:&nbsp\;&lsquo\;In My Creative Era&rsquo\; Trivia and Painting Night&nbsp\;as we celebrate our favorite Pop Star&rsquo\;s Birthday!</span></strong></p>\n\n<p><strong><span style="font-size:14.0pt">Are you ready for a night that will never go out of Style?</span></strong></p>\n\n<p><strong><span style="font-size:14.0pt">&nbsp\;December 13th&nbsp\; from 5PM to 7PM at</span></strong></p>\n\n<p><strong><span style="font-size:14.0pt">Color Me Mine\, North Center for an unforgettable &lsquo\;In My Creative Era&rsquo\; Trivia and Painting Night!</span></strong></p>\n\n<p><strong><span style="font-size:14.0pt">For just $15 per person\, you&rsquo\;ll get to enjoy:</span></strong></p>\n\n<p><strong><span style="font-size:14.0pt">&ndash\; Studio fee</span></strong></p>\n\n<p><strong><span style="font-size:14.0pt">&ndash\; Snacks to keep you energized while you Shake It Off</span></strong></p>\n\n<p><strong><span style="font-size:14.0pt">&ndash\; TS trivia that will make you feel like you&rsquo\;re in Wonderland</span></strong></p>\n\n<p><strong><span style="font-size:14.0pt">But wait\, there&rsquo\;s more!</span></strong></p>\n\n<p><strong><span style="font-size:14.0pt">You&rsquo\;ll have the chance to choose your own blank space pottery piece on the day of the event (additional charges apply).</span></strong></p>\n\n<p><strong><span style="font-size:14.0pt">So whether you want to paint a delicate teacup or a Fearless figurine\, we have something for every Swiftie.</span></strong></p>\n\n<p><strong><span style="font-size:14.0pt">Don&rsquo\;t let this opportunity slip away like a Love Story!</span></strong></p>\n\n<p><strong><span style="font-size:14.0pt">Gather your friends and come ready to paint the town Red. Tickets are limited\, so grab yours before they&rsquo\;re gone in a Blink.</span></strong></p>\n\n<p><strong><span style="font-size:14.0pt">We can&rsquo\;t wait to see you there &ndash\; it&rsquo\;s going to be a night that you&rsquo\;ll remember All Too Well.</span></strong></p>\n\n<p><strong><span style="font-size:14.0pt">Details:</span></strong></p>\n\n<p><strong><span style="font-size:14.0pt">&ndash\; Total time is approx 2 hrs.</span></strong></p>\n\n<p><strong><span style="font-size:14.0pt">&ndash\; Please arrive 15 mins prior to select your pottery pieces</span></strong></p>\n\n<p><strong><span style="font-size:14.0pt">&ndash\; BYOB is always welcome (21+)&nbsp\;</span></strong></p>\n\n<p><strong><em><span style="font-size:14.0pt">Pottery will be ready within 10 days of the even</span></em></strong></p>\n\n<p><strong><em><span style="font-size:14.0pt">&nbsp\;</span></em></strong></p>\n
LOCATION:Color Me Mine\, North Center
UID:e.2566.12027
SEQUENCE:3
DTSTAMP:20260421T113605Z
URL:https://business.ravenswoodchicago.org/events/details/swifties-night-era-s-trivia-painting-night-12027
END:VEVENT

END:VCALENDAR
