BEGIN:VCALENDAR
VERSION:2.0
PRODID:-//ChamberMaster//Event Calendar 2.0//EN
METHOD:PUBLISH
X-PUBLISHED-TTL:P3D
REFRESH-INTERVAL:P3D
CALSCALE:GREGORIAN
BEGIN:VEVENT
DTSTART:20241213T230000Z
DTEND:20241214T000000Z
X-MICROSOFT-CDO-ALLDAYEVENT:FALSE
SUMMARY:Swifties Night - Era’s Trivia & Painting Night -12/13
DESCRIPTION:Join Us for an Enchanted Evening: 'In My Creative Era' Trivia and Painting Night as we celebrate our favorite Pop Star's Birthday! Are you ready for a night that will never go out of Style? December 13th from 5PM to 7PM at Color Me Mine\, North Center for an unforgettable 'In My Creative Era' Trivia and Painting Night! For just $15 per person\, you'll get to enjoy:   Studio fee   Snacks to keep you energized while you Shake It Off   TS trivia that will make you feel like you're in Wonderland But wait\, there's more! You'll have the chance to choose your own blank space pottery piece on the day of the event (additional charges apply). So whether you want to paint a delicate teacup or a Fearless figurine\, we have something for every Swiftie. Don't let this opportunity slip away like a Love Story! Gather your friends and come ready to paint the town Red. Tickets are limited\, so grab yours before they're gone in a Blink. We can't wait to see you there   it's going to be a night that you'll remember All Too Well. Details:   Total time is approx 2 hrs.   Please arrive 15 mins prior to select your pottery pieces   BYOB is always welcome (21+)
X-ALT-DESC;FMTTYPE=text/html:Join Us for an Enchanted Evening: &lsquo\;In My Creative Era&rsquo\; Trivia and Painting Night as we celebrate our favorite Pop Star&rsquo\;s Birthday! Are you ready for a night that will never go out of Style? December 13th from 5PM to 7PM at Color Me Mine\, North Center for an unforgettable &lsquo\;In My Creative Era&rsquo\; Trivia and Painting Night! For just $15 per person\, you&rsquo\;ll get to enjoy: &ndash\; Studio fee &ndash\; Snacks to keep you energized while you Shake It Off &ndash\; TS trivia that will make you feel like you&rsquo\;re in Wonderland But wait\, there&rsquo\;s more! You&rsquo\;ll have the chance to choose your own blank space pottery piece on the day of the event (additional charges apply). So whether you want to paint a delicate teacup or a Fearless figurine\, we have something for every Swiftie. Don&rsquo\;t let this opportunity slip away like a Love Story! Gather your friends and come ready to paint the town Red. Tickets are limited\, so grab yours before they&rsquo\;re gone in a Blink. We can&rsquo\;t wait to see you there &ndash\; it&rsquo\;s going to be a night that you&rsquo\;ll remember All Too Well. Details: &ndash\; Total time is approx 2 hrs. &ndash\; Please arrive 15 mins prior to select your pottery pieces &ndash\; BYOB is always welcome (21+)
LOCATION:color me mine
UID:e.2566.12022
SEQUENCE:3
DTSTAMP:20260421T113728Z
URL:https://business.ravenswoodchicago.org/events/details/swifties-night-era-s-trivia-painting-night-12-13-12022
END:VEVENT

END:VCALENDAR
