BEGIN:VCALENDAR
VERSION:2.0
PRODID:-//ChamberMaster//Event Calendar 2.0//EN
METHOD:PUBLISH
X-PUBLISHED-TTL:P3D
REFRESH-INTERVAL:P3D
CALSCALE:GREGORIAN
BEGIN:VEVENT
DTSTART:20240907T150000Z
DTEND:20240907T203000Z
X-MICROSOFT-CDO-ALLDAYEVENT:FALSE
SUMMARY:Stitch Builders: Looped Stitches Embroidery Workshop
DESCRIPTION:Perfect for both beginning and intermediate stitchers\, students will spend the day practicing 8 different embroidery stitches as they create a sampler to showcase what they've learned. The September 7th session will cover a group of stitches worked by looping the thread\, including: -Wheatear -Van Dyke -Herringbone -Buttonhole -Chain -Heavy Chain -Cretan -Coral Stitch Lauren Yeager's Stitch Builders series will also cover foundational embroidery skills such as how to thread the needle\, how to start and end your threads\, and how to use an embroidery hoop. The class fee also includes all needed supplies such as fabric\, needles\, floss\, and a hoop.
X-ALT-DESC;FMTTYPE=text/html:Perfect for both beginning and intermediate stitchers\, students will spend the day practicing 8 different embroidery stitches as they create a sampler to showcase what they&rsquo\;ve learned. The September 7th session will cover a group of stitches worked by looping the thread\, including: -Wheatear -Van Dyke -Herringbone -Buttonhole -Chain -Heavy Chain -Cretan -Coral Stitch Lauren Yeager&#39\;s Stitch Builders series will also cover foundational embroidery skills such as how to thread the needle\, how to start and end your threads\, and how to use an embroidery hoop. The class fee also includes all needed supplies such as fabric\, needles\, floss\, and a hoop.
LOCATION:Maydel 1746 W Wilson Ave 60640
UID:e.2566.11902
SEQUENCE:3
DTSTAMP:20260421T172429Z
URL:https://business.ravenswoodchicago.org/events/details/stitch-builders-looped-stitches-embroidery-workshop-11902
END:VEVENT

END:VCALENDAR
