BEGIN:VCALENDAR
VERSION:2.0
PRODID:-//ChamberMaster//Event Calendar 2.0//EN
METHOD:PUBLISH
X-PUBLISHED-TTL:P3D
REFRESH-INTERVAL:P3D
CALSCALE:GREGORIAN
BEGIN:VEVENT
DTSTART:20250611T133000Z
DTEND:20250611T153000Z
X-MICROSOFT-CDO-ALLDAYEVENT:FALSE
SUMMARY:State of the State: Hosted by the Greater Ravenswood and Lincoln Square Chambers of Commerce
DESCRIPTION:Join us on Wednesday\, June 11th from 8:30am-10:30am at Begyle Brewing for a morning conversation and unique opportunity to discuss the issues you care about that impact your business. Members of Congress and elected officials include State Senator Mike Simmons\, State Representative Hoan Huynh\, Illinois State Treasurer Michael Frerichs\, and Cook County Commissioner Bridget Degnen. Whether you're a small business owner\, entrepreneur\, or corporate leader\, this event provides an invaluable platform to engage with decision-makers.\n\nAt this 2nd quarter event\, we invite our panel to provide an update on the latest small business-related policies coming out of Washington. This will involve a moderated discussion followed by a Q&A with pre-submitted questions by attendees. Questions can be submitted in advance using this form.\n\nEvent ticket includes coffee from Backlot Coffee and a light breakfast from Bagel Miller.\n\nWhy Attend?\n\n  Gain first-hand insights into legislation impacting your business.\n\n  Network with fellow entrepreneurs and policymakers.\n\n  Advocate for issues that matter to your industry.\n\n  Stay informed on key economic and policy trends.\n\n\n\nState of the State is co-hosted by the Greater Ravenswood Chamber of Commerce and the Lincoln Square Ravenswood Chamber of Commerce.
X-ALT-DESC;FMTTYPE=text/html:<div avant="" background-color:="" century="" font-size:="" style="box-sizing: inherit\; margin: 0px 0px 1.5em\; color: rgb(64\, 64\, 64)\;"><span style="font-size:12px\;">Join us on<span avant="" century="" font-weight:="" style="box-sizing: inherit\; font-family: montserratmedium\, ">&nbsp\;Wednesday\, June 11th from 8:30am-10:30am</span>&nbsp\;at&nbsp\;<a href="https://www.begylebrewing.com/" style="box-sizing: inherit\; background-color: transparent\; color: rgb(0\, 87\, 82)\; text-decoration-thickness: 1px\; text-decoration-style: solid\; text-decoration-color: rgb(72\, 193\, 189)\; transition: 0.3s\;">Begyle Brewing</a>&nbsp\;for a morning conversation and unique opportunity to discuss the issues you care about that impact your business. Members of Congress and elected officials include&nbsp\;<a href="https://www.senatormikesimmons.com/" style="box-sizing: inherit\; background-color: transparent\; color: rgb(0\, 87\, 82)\; text-decoration-thickness: 1px\; text-decoration-style: solid\; text-decoration-color: rgb(72\, 193\, 189)\; transition: 0.3s\;">State Senator Mike Simmons</a>\,&nbsp\;<a href="https://www.rephoanhuynh.com/" style="box-sizing: inherit\; background-color: transparent\; color: rgb(0\, 87\, 82)\; text-decoration-thickness: 1px\; text-decoration-style: solid\; text-decoration-color: rgb(72\, 193\, 189)\; transition: 0.3s\;">State Representative Hoan Huynh</a>\, <a href="https://www.illinoistreasurer.gov/Office_of_the_Treasurer/Treasurer_Frerichs" style="box-sizing: inherit\; background-color: transparent\; color: rgb(0\, 87\, 82)\; text-decoration-thickness: 1px\; text-decoration-style: solid\; text-decoration-color: rgb(72\, 193\, 189)\; transition: 0.3s\;">Illinois State Treasurer Michael Frerichs</a>\, and <a href="https://www.cookcountyil.gov/all-people/bridget-degnen">Cook County Commissioner Bridget Degnen</a>. Whether you&rsquo\;re a small business owner\, entrepreneur\, or corporate leader\, this event provides an invaluable platform to engage with decision-makers.</span></div>\n\n<div avant="" background-color:="" century="" font-size:="" style="box-sizing: inherit\; margin: 0px 0px 1.5em\; color: rgb(64\, 64\, 64)\;"><span style="font-size:12px\;">At this 2nd quarter event\, we invite our panel to provide an update on the latest small business-related policies coming out of Washington. This will involve a moderated discussion followed by a Q&amp\;A with pre-submitted questions by attendees.&nbsp\;<a href="https://business.ravenswoodchicago.org/form/view/36435?previewMode=true" style="box-sizing: inherit\; background-color: transparent\; color: rgb(0\, 87\, 82)\; text-decoration-thickness: 1px\; text-decoration-style: solid\; text-decoration-color: rgb(72\, 193\, 189)\; transition: 0.3s\;">Questions can be submitted in advance using this form</a>.</span></div>\n\n<div avant="" background-color:="" century="" font-size:="" style="box-sizing: inherit\; margin: 0px 0px 1.5em\; color: rgb(64\, 64\, 64)\;"><span style="font-size:12px\;">Event ticket includes coffee from&nbsp\;<a href="https://backlotcoffee.com/?srsltid=AfmBOoot7pNdXATE20EZqxaqx5ZNg12wuxamwMapV4rsFkTGqL8_VTwi" style="box-sizing: inherit\; background-color: transparent\; color: rgb(0\, 87\, 82)\; text-decoration-thickness: 1px\; text-decoration-style: solid\; text-decoration-color: rgb(72\, 193\, 189)\; transition: 0.3s\;">Backlot Coffee</a>&nbsp\;and a light breakfast from&nbsp\;<a href="https://bagelmiller.com/" style="box-sizing: inherit\; background-color: transparent\; color: rgb(0\, 87\, 82)\; text-decoration-thickness: 1px\; text-decoration-style: solid\; text-decoration-color: rgb(72\, 193\, 189)\; transition: 0.3s\;">Bagel Miller</a>.</span></div>\n\n<h3 background-color:="" century="" class="wp-block-heading" clear:="" color:="" font-weight:="" line-height:="" style="box-sizing: inherit\; font-family: gothamedstd\, "><strong><span style="font-size:12px\;"><span avant="" century="" font-weight:="" style="box-sizing: inherit\; font-family: montserratmedium\, ">Why Attend?</span></span></strong></h3>\n\n<div avant="" background-color:="" century="" font-size:="" style="box-sizing: inherit\; margin: 0px 0px 1.5em\; color: rgb(64\, 64\, 64)\;"><span style="font-size:12px\;">&#128309\; Gain first-hand insights into legislation impacting your business.<br style="box-sizing: inherit\;" />\n&#128309\; Network with fellow entrepreneurs and policymakers.<br style="box-sizing: inherit\;" />\n&#128309\; Advocate for issues that matter to your industry.<br style="box-sizing: inherit\;" />\n&#128309\; Stay informed on key economic and policy trends.</span><br />\n<br />\n<span style="color: rgb(64\, 64\, 64)\;">State of the State is co-hosted by the&nbsp\;</span><a href="https://ravenswoodchicago.org/" style="color: rgb(0\, 87\, 82)\; background-color: transparent\; box-sizing: inherit\; text-decoration-thickness: 1px\; text-decoration-style: solid\; text-decoration-color: rgb(72\, 193\, 189)\; transition: 0.3s\;">Greater Ravenswood Chamber of Commerce</a><span style="color: rgb(64\, 64\, 64)\;">&nbsp\;and the&nbsp\;</span><a href="https://www.lincolnsquare.org/" style="color: rgb(0\, 87\, 82)\; background-color: transparent\; box-sizing: inherit\; text-decoration-thickness: 1px\; text-decoration-style: solid\; text-decoration-color: rgb(72\, 193\, 189)\; transition: 0.3s\;">Lincoln Square Ravenswood Chamber of Commerce</a><span style="color: rgb(64\, 64\, 64)\;">.</span></div>\n
LOCATION:Begyle Brewing\, 1800 W Cuyler Ave
UID:e.2566.14007
SEQUENCE:3
DTSTAMP:20260421T015637Z
URL:https://business.ravenswoodchicago.org/events/details/state-of-the-state-hosted-by-the-greater-ravenswood-and-lincoln-square-chambers-of-commerce-14007
END:VEVENT

END:VCALENDAR
