BEGIN:VCALENDAR
VERSION:2.0
PRODID:-//ChamberMaster//Event Calendar 2.0//EN
METHOD:PUBLISH
X-PUBLISHED-TTL:P3D
REFRESH-INTERVAL:P3D
CALSCALE:GREGORIAN
BEGIN:VEVENT
DTSTART:20250302T160000Z
DTEND:20250302T180000Z
X-MICROSOFT-CDO-ALLDAYEVENT:FALSE
SUMMARY:Star Accordion Book Workshop
DESCRIPTION:A star accordion book is an elevated zine or artist book that folds out into a cool 3D pattern. Wow your friends with this arty conversation piece that is simpler to make than it looks. Sign up on the website!
X-ALT-DESC;FMTTYPE=text/html:A star accordion book is an elevated zine or artist book that folds out into a cool 3D pattern. Wow your friends with this arty conversation piece that is simpler to make than it looks. Sign up on the website!
LOCATION:Jenny G's Art Supply 1926 W Montrose
UID:e.2566.13615
SEQUENCE:3
DTSTAMP:20260421T073125Z
URL:https://business.ravenswoodchicago.org/events/details/star-accordion-book-workshop-13615
END:VEVENT

END:VCALENDAR
