BEGIN:VCALENDAR
VERSION:2.0
PRODID:-//ChamberMaster//Event Calendar 2.0//EN
METHOD:PUBLISH
X-PUBLISHED-TTL:P3D
REFRESH-INTERVAL:P3D
CALSCALE:GREGORIAN
BEGIN:VEVENT
DTSTART:20250501T000000Z
DTEND:20250501T013000Z
X-MICROSOFT-CDO-ALLDAYEVENT:FALSE
SUMMARY:Springtime Gin Cocktail Class
DESCRIPTION:Mix things up in this fun and educational class with KOVAL Distillery.\n\nKOVAL's resident mixologist will walk participants through the history of and hands-on process of making three cocktails.\n\nClass includes the instruction and enjoyment of 3 cocktails\, with the guidance of an instructor and provided recipes. All bartending equipment is included - show up ready to learn!
X-ALT-DESC;FMTTYPE=text/html:<p>Mix things up in this fun and educational class with KOVAL Distillery.</p>\n\n<p>KOVAL&rsquo\;s resident mixologist will walk participants through the history of and hands-on process of making three cocktails.</p>\n\n<p>Class includes the instruction and enjoyment of 3 cocktails\, with the guidance of an instructor and provided recipes. All bartending equipment is included - show up ready to learn!</p>\n
LOCATION:KOVAL Distillery 4241 North Ravenswood Avenue Chicago\, IL 60613
UID:e.2566.13856
SEQUENCE:3
DTSTAMP:20260421T044348Z
URL:https://business.ravenswoodchicago.org/events/details/springtime-gin-cocktail-class-13856
END:VEVENT

END:VCALENDAR
