BEGIN:VCALENDAR
VERSION:2.0
PRODID:-//ChamberMaster//Event Calendar 2.0//EN
METHOD:PUBLISH
X-PUBLISHED-TTL:P3D
REFRESH-INTERVAL:P3D
CALSCALE:GREGORIAN
BEGIN:VEVENT
DTSTART:20250427T150000Z
DTEND:20250427T220000Z
X-MICROSOFT-CDO-ALLDAYEVENT:FALSE
SUMMARY:Spring Opening at Sophia Reyes
DESCRIPTION:Shop the new spring collection at Sophia Reyes\, a clothing and accessories line made in Chicago since 2008. The event will feature Michelle Starbuck jewelry and Little Fire Ceramics.
X-ALT-DESC;FMTTYPE=text/html:Shop the new spring collection at Sophia Reyes\, a clothing and accessories line made in Chicago since 2008. The event will feature Michelle Starbuck jewelry and Little Fire Ceramics.
LOCATION:4039A Ravenswood Avenue\, Chicago
UID:e.2566.13634
SEQUENCE:3
DTSTAMP:20260421T044746Z
URL:https://business.ravenswoodchicago.org/events/details/spring-opening-at-sophia-reyes-13634
END:VEVENT

END:VCALENDAR
