BEGIN:VCALENDAR
VERSION:2.0
PRODID:-//ChamberMaster//Event Calendar 2.0//EN
METHOD:PUBLISH
X-PUBLISHED-TTL:P3D
REFRESH-INTERVAL:P3D
CALSCALE:GREGORIAN
BEGIN:VEVENT
DTSTART:20240824T160000Z
DTEND:20240824T190000Z
X-MICROSOFT-CDO-ALLDAYEVENT:FALSE
SUMMARY:Soup and Rice Social: A Daiyuzenji Community Gathering and Open House
DESCRIPTION:Join us for the Daiyuzenji Community Social and Open House! Friends\, partners\, family\, and neighbors are invited to an afternoon of camaraderie. Discover what makes our community special\, explore our space\, meet our members\, and learn more about what we do.\n\nEnjoy rice and soup lovingly prepared by our community members as you mingle and connect with others.\n\nTo RSVP\, click here.
X-ALT-DESC;FMTTYPE=text/html:<p>Join us for the Daiyuzenji Community Social and Open House! Friends\, partners\, family\, and neighbors are invited to an afternoon of camaraderie. Discover what makes our community special\, explore our space\, meet our members\, and learn more about what we do.</p>\n\n<p>Enjoy rice and soup lovingly prepared by our community members as you mingle and connect with others.</p>\n\n<p><a href="https://docs.google.com/forms/d/e/1FAIpQLSdM4wMEUdH2VZkbcNop705wli7Sg7jptgLpbRHCmLpdQsAc0g/viewform" style="background: transparent\; text-decoration-line: none\; color: rgb(61\, 153\, 145)\; overflow-wrap: break-word\;">To RSVP\, click here. </a></p>\n
LOCATION:Daiyuzenji Rinzai Zen Temple 3717 North Ravenswood Ave. Chicago\, IL\, 60613
UID:e.2566.11904
SEQUENCE:3
DTSTAMP:20260421T172728Z
URL:https://business.ravenswoodchicago.org/events/details/soup-and-rice-social-a-daiyuzenji-community-gathering-and-open-house-08-24-2024-11904
END:VEVENT

END:VCALENDAR
