BEGIN:VCALENDAR
VERSION:2.0
PRODID:-//ChamberMaster//Event Calendar 2.0//EN
METHOD:PUBLISH
X-PUBLISHED-TTL:P3D
REFRESH-INTERVAL:P3D
CALSCALE:GREGORIAN
BEGIN:VEVENT
DTSTART:20250629T180000Z
DTEND:20250629T190000Z
X-MICROSOFT-CDO-ALLDAYEVENT:FALSE
SUMMARY:Sound Bath to benefit Chicago Canine Rescue
DESCRIPTION:Join us at the The Space Community Studio for a relaxing sound bath! Immerse Yourself in Healing Vibes   and Help Rescue Dogs Thrive! Join us for a Sound Bath Experience benefitting Chicago Canine Rescue   a unique opportunity to relax your mind\, restore your body\, and support pups in need of a forever home. Surrounded by soothing tones from crystal singing bowls\, chimes\, and gentle percussion\, you'll be guided by Jay Taylor of Current Vibrations into deep relaxation and inner stillness. Whether you're new to sound healing or a seasoned soul-searcher\, this all-levels event offers a calming space to unwind\, reflect\, and recharge   all while making a meaningful impact. 100% of proceeds support the life-saving work of Chicago Canine Rescue\, helping dogs who are too old\, too young\, too injured\, or otherwise overlooked find the love they deserve. Bring your yoga mat\, a blanket\, and an open heart. Healing for you\, hope for them. Refreshments will follow!
X-ALT-DESC;FMTTYPE=text/html:Join us at the The Space Community Studio for a relaxing sound bath! Immerse Yourself in Healing Vibes &mdash\; and Help Rescue Dogs Thrive! Join us for a Sound Bath Experience benefitting Chicago Canine Rescue &mdash\; a unique opportunity to relax your mind\, restore your body\, and support pups in need of a forever home. Surrounded by soothing tones from crystal singing bowls\, chimes\, and gentle percussion\, you&rsquo\;ll be guided by Jay Taylor of Current Vibrations into deep relaxation and inner stillness. Whether you&#39\;re new to sound healing or a seasoned soul-searcher\, this all-levels event offers a calming space to unwind\, reflect\, and recharge &mdash\; all while making a meaningful impact. 100% of proceeds support the life-saving work of Chicago Canine Rescue\, helping dogs who are too old\, too young\, too injured\, or otherwise overlooked find the love they deserve. Bring your yoga mat\, a blanket\, and an open heart. Healing for you\, hope for them. Refreshments will follow!
LOCATION:The Space Community Studio 3759 N Ravenswood\, Suite 122 Chicago\, IL 60613
UID:e.2566.14130
SEQUENCE:3
DTSTAMP:20260421T020156Z
URL:https://business.ravenswoodchicago.org/events/details/sound-bath-to-benefit-chicago-canine-rescue-14130
END:VEVENT

END:VCALENDAR
