BEGIN:VCALENDAR
VERSION:2.0
PRODID:-//ChamberMaster//Event Calendar 2.0//EN
METHOD:PUBLISH
X-PUBLISHED-TTL:P3D
REFRESH-INTERVAL:P3D
CALSCALE:GREGORIAN
BEGIN:VEVENT
DTSTART:20250815T143000Z
DTEND:20250815T153000Z
X-MICROSOFT-CDO-ALLDAYEVENT:FALSE
SUMMARY:Sober Self-defense Workshop
DESCRIPTION:Have fun learning effective self-defense skills! Coach Jason is a 2nd Degree black belt in Brazilian Jiujitsu and a Certified Muay Thai Coach from the World Muay Thai Association.
X-ALT-DESC;FMTTYPE=text/html:Have fun learning effective self-defense skills! Coach Jason is a 2nd Degree black belt in Brazilian Jiujitsu and a Certified Muay Thai Coach from the World Muay Thai Association.
LOCATION:Bender Martial Arts and Fitness 5547 N. Ravenswood Suite B2
UID:e.2566.14571
SEQUENCE:3
DTSTAMP:20260420T215150Z
URL:https://business.ravenswoodchicago.org/events/details/sober-self-defense-workshop-08-15-2025-14571
END:VEVENT

END:VCALENDAR
