BEGIN:VCALENDAR
VERSION:2.0
PRODID:-//ChamberMaster//Event Calendar 2.0//EN
METHOD:PUBLISH
X-PUBLISHED-TTL:P3D
REFRESH-INTERVAL:P3D
CALSCALE:GREGORIAN
BEGIN:VEVENT
DTSTART:20240819T233000Z
DTEND:20240820T020000Z
X-MICROSOFT-CDO-ALLDAYEVENT:FALSE
SUMMARY:Sketchbook Journaling 101 Workshop
DESCRIPTION:Embark on a journey of self-discovery "Journaling on Purpose\," an illuminating workshop at Indigo & Violet Studio on August 19th\, 2024. In this 2.5-hour session\, artist and creative guide Anne Leuck will introduce you to the transformative practice of sketchbook journaling - a powerful tool for wellness and creativity.\n\n \n\nLearn to craft your personal narrative through art\, weaving daily experiences into a vibrant\, visual autobiography. You'll discover techniques to quiet the mind\, nurture self-expression\, and cultivate mindfulness\, all while developing a fulfilling creative practice. Whether you're seeking personal growth\, stress relief\, or a new outlet for creativity\, this workshop offers accessible methods to create meaningful journal pages in as little as 10 minutes a day.\n\nBest of all\, you'll leave with your very own sketchbook journal and Anne's favorite pen and all you need to know to continue your journey at home. All materials are provided\, so just bring yourself and your willingness to participate in the adventure!!
X-ALT-DESC;FMTTYPE=text/html:<div>Embark on a journey of self-discovery &quot\;Journaling on Purpose\,&quot\; an illuminating workshop at Indigo &amp\; Violet Studio on August 19th\, 2024. In this 2.5-hour session\, artist and creative guide Anne Leuck will introduce you to the transformative practice of sketchbook journaling - a powerful tool for wellness and creativity.<br />\n&nbsp\;</div>\n\n<div>Learn to craft your personal narrative through art\, weaving daily experiences into a vibrant\, visual autobiography. You&#39\;ll discover techniques to quiet the mind\, nurture self-expression\, and cultivate mindfulness\, all while developing a fulfilling creative practice. Whether you&#39\;re seeking personal growth\, stress relief\, or a new outlet for creativity\, this workshop offers accessible methods to create meaningful journal pages in as little as 10 minutes a day.</div>\n\n<p>Best of all\, you&#39\;ll leave with your very own sketchbook journal and Anne&#39\;s favorite pen and all you need to know to continue your journey at home. All materials are provided\, so just bring yourself and your willingness to participate in the adventure!!</p>\n\n<div>&nbsp\;</div>\n
LOCATION:Indigo & Violet Studio - 1411 W. Irving Park Rd. Chicago\, IL 60613
UID:e.2566.11908
SEQUENCE:3
DTSTAMP:20260421T170607Z
URL:https://business.ravenswoodchicago.org/events/details/sketchbook-journaling-101-workshop-11908
END:VEVENT

END:VCALENDAR
