BEGIN:VCALENDAR
VERSION:2.0
PRODID:-//ChamberMaster//Event Calendar 2.0//EN
METHOD:PUBLISH
X-PUBLISHED-TTL:P3D
REFRESH-INTERVAL:P3D
CALSCALE:GREGORIAN
BEGIN:VEVENT
DTSTART:20260122T000000Z
DTEND:20260122T020000Z
X-MICROSOFT-CDO-ALLDAYEVENT:FALSE
SUMMARY:Sketchbook Journaling 101 Live Online with OMEGA INSTITUTE
DESCRIPTION:January is the moment to begin again--or come back to what you loved. Artist Anne Leuck will guide you live in this Sketchbook Journaling 101 class with Omega Institute. Words + images. No pressure. No art experience needed. This live online session is perfect if you want a simple\, meaningful journaling practice that actually sticks.\n\n\n\nRegister Here
X-ALT-DESC;FMTTYPE=text/html:January is the moment to begin again--or come back to what you loved. Artist Anne Leuck will guide you live in this Sketchbook Journaling 101 class with Omega Institute. Words + images. No pressure. No art experience needed. This live online session is perfect if you want a simple\, meaningful journaling practice that actually sticks.<br />\n<br />\n<a href="https://www.eomega.org/workshops/sketchbook-journaling-101?utm_source=leuck&amp\;utm_medium=banner&amp\;utm_campaign=leuck_OTS_S8">Register Here</a>
LOCATION:ONLINE VIA ZOOM
UID:e.2566.15001
SEQUENCE:3
DTSTAMP:20260420T134609Z
URL:https://business.ravenswoodchicago.org/events/details/sketchbook-journaling-101-live-online-with-omega-institute-15001
END:VEVENT

END:VCALENDAR
