BEGIN:VCALENDAR
VERSION:2.0
PRODID:-//ChamberMaster//Event Calendar 2.0//EN
METHOD:PUBLISH
X-PUBLISHED-TTL:P3D
REFRESH-INTERVAL:P3D
CALSCALE:GREGORIAN
BEGIN:VEVENT
DTSTART:20240907T200000Z
DTEND:20240907T220000Z
X-MICROSOFT-CDO-ALLDAYEVENT:FALSE
SUMMARY:Situational Awareness/Self-Defense Workshop
DESCRIPTION:Self-Defense is Self-Care! We are hosting our Situational Awareness/Self-Defense Workshop\, learning skills and exploring best practices that can help you from being a targeted victim of crime. This event is open to everyone\, no martial arts experience is necessary! We ask that participants dress in comfortable clothing (no jeans or shorts) and get ready to move your body and have some fun! Location: Aikido Kenshin Dojo 3717 N. Ravenswood Ave. Ste #112 Chicago\, IL 60613 When: Saturday\, September 7th 3PM-5PM Class Fee: $35 We look forward to seeing you soon!
X-ALT-DESC;FMTTYPE=text/html:Self-Defense is Self-Care! We are hosting our Situational Awareness/Self-Defense Workshop\, learning skills and exploring best practices that can help you from being a targeted victim of crime. This event is open to everyone\, no martial arts experience is necessary! We ask that participants dress in comfortable clothing (no jeans or shorts) and get ready to move your body and have some fun! Location: Aikido Kenshin Dojo 3717 N. Ravenswood Ave. Ste #112 Chicago\, IL 60613 When: Saturday\, September 7th 3PM-5PM Class Fee: $35 We look forward to seeing you soon!
LOCATION:Aikido Kenshin Dojo 3717 N. Ravenswood Ave #112 Chicago\, IL 60613
UID:e.2566.11882
SEQUENCE:3
DTSTAMP:20260421T153926Z
URL:https://business.ravenswoodchicago.org/events/details/situational-awareness-self-defense-workshop-11882
END:VEVENT

END:VCALENDAR
