BEGIN:VCALENDAR
VERSION:2.0
PRODID:-//ChamberMaster//Event Calendar 2.0//EN
METHOD:PUBLISH
X-PUBLISHED-TTL:P3D
REFRESH-INTERVAL:P3D
CALSCALE:GREGORIAN
BEGIN:VEVENT
DTSTART:20241029T233000Z
DTEND:20241030T013000Z
X-MICROSOFT-CDO-ALLDAYEVENT:FALSE
SUMMARY:Sitting Pretty: Crafting Ergonomics with Jenni Grover
DESCRIPTION:In this 90-minute workshop (with an optional 30 minutes at the end for crafting and hanging out)\, Jenni will teach us some good practices for staying healthy as we pursue our creative passions. In addition to seated ergonomics\, she'll also talk about standing and moving through our spaces\, and lead us in some helpful stretches to prevent and ease pain and stiffness.\n\nBring your current handcraft because Jenni will evaluate each attendee at work  so we can learn from each other's experiences\, too!
X-ALT-DESC;FMTTYPE=text/html:<p>In this 90-minute workshop (with an optional 30 minutes at the end for crafting and hanging out)\, Jenni will teach us some good&nbsp\;practices for staying healthy as we pursue our creative passions. In addition to seated ergonomics\, she&rsquo\;ll also talk about standing and moving through our spaces\, and lead us in some helpful stretches to prevent and ease pain and stiffness.</p>\n\n<p>Bring your current handcraft because Jenni will evaluate each attendee at work&hellip\; so we can learn from each other&rsquo\;s experiences\, too!</p>\n
LOCATION:1746 W Wilson Ave. 60640
UID:e.2566.11986
SEQUENCE:3
DTSTAMP:20260421T153625Z
URL:https://business.ravenswoodchicago.org/events/details/sitting-pretty-crafting-ergonomics-with-jenni-grover-11986
END:VEVENT

END:VCALENDAR
