BEGIN:VCALENDAR
VERSION:2.0
PRODID:-//ChamberMaster//Event Calendar 2.0//EN
METHOD:PUBLISH
X-PUBLISHED-TTL:P3D
REFRESH-INTERVAL:P3D
CALSCALE:GREGORIAN
BEGIN:VEVENT
DTSTART:20241011T160000Z
DTEND:20241011T170000Z
X-MICROSOFT-CDO-ALLDAYEVENT:FALSE
SUMMARY:Sexual Harassment Prevention and Response Training Workshop for clinicians
DESCRIPTION:Instructor: Shannon Suffoletto\, LCPC\, BC-DMT\n\nOctober 11th at 11-12pm virtual\n\n\n\nIn this sexual harassment prevention and response workshop\, participants will learn what constitutes sexual harassment\, what to do if one experiences or witnesses sexual harassment\, how to report sexual harassment\, and related laws and policies. Participants will have the opportunity to apply strategies for bystander intervention in situations involving sexual harassment\, counseling someone who has experienced unconsented sexual conduct\, and the overall prevention of sexual harassment.
X-ALT-DESC;FMTTYPE=text/html:Instructor: Shannon Suffoletto\, LCPC\, BC-DMT<br />\nOctober 11th at 11-12pm virtual<br />\n<br />\nIn this sexual harassment prevention and response workshop\, participants will learn what constitutes sexual harassment\, what to do if one experiences or witnesses sexual harassment\, how to report sexual harassment\, and related laws and policies. Participants will have the opportunity to apply strategies for bystander intervention in situations involving sexual harassment\, counseling someone who has experienced unconsented sexual conduct\, and the overall prevention of sexual harassment.
LOCATION:Virtual learning
UID:e.2566.11996
SEQUENCE:3
DTSTAMP:20260421T140904Z
URL:https://business.ravenswoodchicago.org/events/details/sexual-harassment-prevention-and-response-training-workshop-for-clinicians-11996
END:VEVENT

END:VCALENDAR
