BEGIN:VCALENDAR
VERSION:2.0
PRODID:-//ChamberMaster//Event Calendar 2.0//EN
METHOD:PUBLISH
X-PUBLISHED-TTL:P3D
REFRESH-INTERVAL:P3D
CALSCALE:GREGORIAN
BEGIN:VEVENT
DTSTART:20241204T010000Z
DTEND:20241204T030000Z
X-MICROSOFT-CDO-ALLDAYEVENT:FALSE
SUMMARY:Sex Ed Trivia at Is/Was Brewing
DESCRIPTION:Response for Teens\, a Chicagoland youth-serving sexual health education provider\, is hosting a SEX ED TRIVIA NIGHT on Tuesday\, December 3rd! We will be hosting this exciting\, inaugural event at Is/Was Brewing in the Ravenswood neighborhood of Chicago starting at 7:00PM. Teams and individuals are encouraged to participate\, and prizes/goody bags will be available to all who attend. We will also have representatives from Chicagoland organizations like Center on Halsted and PEER Services providing resources and swag! This will be a blast of an evening for adults 21+ to test their knowledge on all things sexual health. Additionally\, we will be raising money (suggested $10 donation) toward the Chicago South Side Birth Clinic\, the only Black-owned birthing center in the city set to open in 2025. Dogs and outside food are welcome. Advanced registration is recommended but same-day registration will be available!
X-ALT-DESC;FMTTYPE=text/html:Response for Teens\, a Chicagoland youth-serving sexual health education provider\, is hosting a SEX ED TRIVIA NIGHT on Tuesday\, December 3rd! We will be hosting this exciting\, inaugural event at Is/Was Brewing in the Ravenswood neighborhood of Chicago starting at 7:00PM. Teams and individuals are encouraged to participate\, and prizes/goody bags will be available to all who attend. We will also have representatives from Chicagoland organizations like Center on Halsted and PEER Services providing resources and swag! This will be a blast of an evening for adults 21+ to test their knowledge on all things sexual health. Additionally\, we will be raising money (suggested $10 donation) toward the Chicago South Side Birth Clinic\, the only Black-owned birthing center in the city set to open in 2025. Dogs and outside food are welcome. Advanced registration is recommended but same-day registration will be available!
LOCATION:is/was brewing 121 N Ravenswood Ave\, Chicago\, IL 60640
UID:e.2566.12059
SEQUENCE:3
DTSTAMP:20260421T114626Z
URL:https://business.ravenswoodchicago.org/events/details/sex-ed-trivia-at-is-was-brewing-12059
END:VEVENT

END:VCALENDAR
