BEGIN:VCALENDAR
VERSION:2.0
PRODID:-//ChamberMaster//Event Calendar 2.0//EN
METHOD:PUBLISH
X-PUBLISHED-TTL:P3D
REFRESH-INTERVAL:P3D
CALSCALE:GREGORIAN
BEGIN:VEVENT
DTSTART:20240608T170000Z
DTEND:20240608T220000Z
X-MICROSOFT-CDO-ALLDAYEVENT:FALSE
SUMMARY:Second Saturdays at Mata Traders
DESCRIPTION:Mata Traders Fair Trade Apparel and Jewelry Second Saturdays Second Saturdays from 12 am - 5 pm June 8th\, July 13th Aug 10th Location: 5112 N. Ravenswood Ave\, Chicago\, IL 60640 Save the date for Mata Traders' Second Saturdays. Bring your friends or family to shop our current spring and summer line\, or shop for samples and seconds from previous seasons of ethically made apparel and jewelry. We've got you covered: dresses\, pants\, skirts\, and tops in fun colorful prints\, plaids\, and solid colors. Our Fair Trade line is known for its handmade details including embroidery\, block printing\, and screen printing. Date: Second Saturdays\, June 8th\, July 13th\, and Aug 10th 12pm-5pm Location: Mata Traders 5112 N. Ravenswood Ave Chicago\, IL 60640 Bring your friends or family to shop our current spring and summer line\, or shop samples and seconds from previous seasons of ethically made apparel and jewelry. We've got you covered: dresses\, pants\, skirts\, and tops in fun colorful prints\, plaids\, and solid colors. Our fair trade line is known for its handmade details including embroidery\, block printing\, and screen printing.
X-ALT-DESC;FMTTYPE=text/html:Mata Traders Fair Trade Apparel and Jewelry Second Saturdays Second Saturdays from 12 am - 5 pm June 8th\, July 13th Aug 10th Location: 5112 N. Ravenswood Ave\, Chicago\, IL 60640 Save the date for Mata Traders&rsquo\; Second Saturdays. Bring your friends or family to shop our current spring and summer line\, or shop for samples and seconds from previous seasons of ethically made apparel and jewelry. We&#39\;ve got you covered: dresses\, pants\, skirts\, and tops in fun colorful prints\, plaids\, and solid colors. Our Fair Trade line is known for its handmade details including embroidery\, block printing\, and screen printing. Date: Second Saturdays\, June 8th\, July 13th\, and Aug 10th 12pm-5pm Location: Mata Traders 5112 N. Ravenswood Ave Chicago\, IL 60640 Bring your friends or family to shop our current spring and summer line\, or shop samples and seconds from previous seasons of ethically made apparel and jewelry. We&#39\;ve got you covered: dresses\, pants\, skirts\, and tops in fun colorful prints\, plaids\, and solid colors. Our fair trade line is known for its handmade details including embroidery\, block printing\, and screen printing.
LOCATION:5112 N. Ravenswood Ave\, Chicago\, IL 60640
UID:e.2566.8551
SEQUENCE:3
DTSTAMP:20260421T223609Z
URL:https://business.ravenswoodchicago.org/events/details/second-saturdays-at-mata-traders-8551
END:VEVENT

END:VCALENDAR
