BEGIN:VCALENDAR
VERSION:2.0
PRODID:-//ChamberMaster//Event Calendar 2.0//EN
METHOD:PUBLISH
X-PUBLISHED-TTL:P3D
REFRESH-INTERVAL:P3D
CALSCALE:GREGORIAN
BEGIN:VEVENT
DTSTART:20240420T140000Z
DTEND:20240420T230000Z
X-MICROSOFT-CDO-ALLDAYEVENT:FALSE
SUMMARY:Save the date for Mata Traders’ Spring Warehouse Sale!
DESCRIPTION:Bring your friends or family to shop samples and seconds of ethically made apparel and jewelry\, all at amazing discounted prices. We've got you covered: dresses\, pants\, skirts\, and tops in fun colorful prints\, plaids\, and solid colors. Our fair trade line is known for its handmade details including embroidery\, block printing\, and screen printing. ** Want to beat the crowd? ** For the first time ever\, we're offering a new way to shop: get first dibs by purchasing a Warehouse Sale Tote Bag on our website - you get access to shop an hour before everyone else\, and any sale garments you can stuff in the bag are yours to keep! We can't wait to see you there!
X-ALT-DESC;FMTTYPE=text/html:Bring your friends or family to shop samples and seconds of ethically made apparel and jewelry\, all at amazing discounted prices. We&#39\;ve got you covered: dresses\, pants\, skirts\, and tops in fun colorful prints\, plaids\, and solid colors. Our fair trade line is known for its handmade details including embroidery\, block printing\, and screen printing. ** Want to beat the crowd? ** For the first time ever\, we&#39\;re offering a new way to shop: get first dibs by purchasing a Warehouse Sale Tote Bag on our website - you get access to shop an hour before everyone else\, and any sale garments you can stuff in the bag are yours to keep! We can&rsquo\;t wait to see you there!
LOCATION:Mata Traders 5112 N. Ravenswood Ave Chicago\, IL 60640
UID:e.2566.8393
SEQUENCE:3
DTSTAMP:20260422T014947Z
URL:https://business.ravenswoodchicago.org/events/details/save-the-date-for-mata-traders-spring-warehouse-sale-8393
END:VEVENT

END:VCALENDAR
