BEGIN:VCALENDAR
VERSION:2.0
PRODID:-//ChamberMaster//Event Calendar 2.0//EN
METHOD:PUBLISH
X-PUBLISHED-TTL:P3D
REFRESH-INTERVAL:P3D
CALSCALE:GREGORIAN
BEGIN:VEVENT
DTSTART:20250423T153000Z
DTEND:20250423T163000Z
X-MICROSOFT-CDO-ALLDAYEVENT:FALSE
SUMMARY:Sapphire Circle: Garden Planning
DESCRIPTION:AK Kritt\, Community Nutrition Manager\, will teach us how to maximize what can grow in a small amount of space. Learn about companion planting\, how much space to give plants\, and what grows well throughout the Chicago growing season!
X-ALT-DESC;FMTTYPE=text/html:AK Kritt\, Community Nutrition Manager\, will teach us how to maximize what can grow in a small amount of space. Learn about companion planting\, how much space to give plants\, and what grows well throughout the Chicago growing season!
LOCATION:Galter Life Center 5157 N. Francisco Ave.
UID:e.2566.13862
SEQUENCE:3
DTSTAMP:20260421T044530Z
URL:https://business.ravenswoodchicago.org/events/details/sapphire-circle-garden-planning-13862
END:VEVENT

END:VCALENDAR
