BEGIN:VCALENDAR
VERSION:2.0
PRODID:-//ChamberMaster//Event Calendar 2.0//EN
METHOD:PUBLISH
X-PUBLISHED-TTL:P3D
REFRESH-INTERVAL:P3D
CALSCALE:GREGORIAN
BEGIN:VEVENT
DTSTART:20240813T220000Z
DTEND:20240814T000000Z
X-MICROSOFT-CDO-ALLDAYEVENT:FALSE
SUMMARY:Rooftop Social at Arriba
DESCRIPTION:The Greater Ravenswood Chamber of Commerce\, Alera Group\, and Erwin Law invite you to a Rooftop Social at Farm Bar's newest al fresco dining addition. Join us Tuesday\, August 13th at ARRIBA for an evening of Tex-Mex delights and fruitful connections.\n\n\nElevate your networking game against the backdrop of stunning neighborhood views\, delicious Latin-inspired cuisine\, and vibrant conversations. Don't miss this opportunity to mingle with fellow professionals\, forge new partnerships\, and expand your business horizons.\n\n\n\n\nTickets include admission\, small bites\, and your first drink! Registration closes at noon on Sunday\, August 11th. A limited number of tickets are available.
X-ALT-DESC;FMTTYPE=text/html:<!-- wp:paragraph -->\n<p><!-- wp:paragraph --></p>\n\n<p>The Greater Ravenswood Chamber of Commerce\, Alera Group\, and Erwin Law invite&nbsp\;you to a Rooftop Social at Farm Bar&#39\;s newest al fresco dining addition. Join us Tuesday\, August 13th at ARRIBA for an evening of Tex-Mex delights and fruitful connections.</p>\n<!-- /wp:paragraph --><!-- wp:paragraph -->\n\n<p>Elevate your networking game against the backdrop of stunning neighborhood views\, delicious Latin-inspired cuisine\, and vibrant conversations. Don&#39\;t miss this opportunity to mingle with fellow professionals\, forge new partnerships\, and expand your business horizons.</p>\n\n<p><!-- /wp:paragraph --></p>\n<!-- /wp:gallery --><!-- wp:paragraph -->\n\n<p>Tickets include admission\, small bites\, and your first drink!&nbsp\;<strong><mark class="has-inline-color has-primary-mid-color">Registration closes at noon on Sunday\, August 11th</mark></strong>. A limited number of tickets are available.</p>\n<!-- /wp:paragraph -->
LOCATION:Arriba Rooftop 4405 N. Damen Ave. Chicago\, IL
UID:e.2566.8543
SEQUENCE:3
DTSTAMP:20260425T140742Z
URL:https://business.ravenswoodchicago.org/events/details/rooftop-social-at-arriba-8543
END:VEVENT

END:VCALENDAR
