BEGIN:VCALENDAR
VERSION:2.0
PRODID:-//ChamberMaster//Event Calendar 2.0//EN
METHOD:PUBLISH
X-PUBLISHED-TTL:P3D
REFRESH-INTERVAL:P3D
CALSCALE:GREGORIAN
BEGIN:VEVENT
DTSTART:20250401T233000Z
DTEND:20250402T003000Z
X-MICROSOFT-CDO-ALLDAYEVENT:FALSE
SUMMARY:Retire on Your Terms - 5 Keys to Retiring Fearlessly
DESCRIPTION:As you approach retirement\, you may be ready to figure out what steps to take next.\n\nAt "5 Keys to Retiring Fearlessly" workshop you gain insights that can give you confidence that you are saving\n\nenough and strategies to help ensure you won't outlive your money. Learn how to protect yourself from life's "what-ifs."\n\n\n\n  Will I have enough to retire?\n\n  Will my retirement income last?\n\n  Are my assets protected?\n\n\n\nThese sessions are hosted by the Oakmont Financial Group (part of Thrivent)
X-ALT-DESC;FMTTYPE=text/html:As you approach retirement\, you may be ready to figure out what steps to take next.<br />\nAt &quot\;5 Keys to Retiring Fearlessly&quot\; workshop you gain insights that can give you confidence that you are saving<br />\nenough and strategies to help ensure you won&rsquo\;t outlive your money. Learn how to protect yourself from life&rsquo\;s &ldquo\;what-ifs.&rdquo\;<br />\n<br />\n&bull\; Will I have enough to retire?<br />\n&bull\; Will my retirement income last?<br />\n&bull\; Are my assets protected?<br />\n<br />\nThese sessions are hosted by the Oakmont Financial Group (part of Thrivent)
LOCATION:Sulzer Regional Library in Lincoln Square 4455 N. Lincoln Ave\, Chicago
UID:e.2566.13626
SEQUENCE:3
DTSTAMP:20260421T060318Z
URL:https://business.ravenswoodchicago.org/events/details/retire-on-your-terms-5-keys-to-retiring-fearlessly-13626
END:VEVENT

END:VCALENDAR
