BEGIN:VCALENDAR
VERSION:2.0
PRODID:-//ChamberMaster//Event Calendar 2.0//EN
METHOD:PUBLISH
X-PUBLISHED-TTL:P3D
REFRESH-INTERVAL:P3D
CALSCALE:GREGORIAN
BEGIN:VEVENT
DTSTART:20240918T170000Z
DTEND:20240918T174500Z
X-MICROSOFT-CDO-ALLDAYEVENT:FALSE
SUMMARY:RESET: A Lunchtime Movement Break
DESCRIPTION:RESET: A lunchtime movement break\n\nWhen: 4 Wednesdays starting September 11th\, 12-12:45pm\n\nWhere: Mind Body Connections\, 1802 W. Berteau Suite 205\n\nWho: Anyone* needing a break from their work day!\n\nCost: sliding scale $10-20 class\n\nContact: Kellyn@mbconnections.net\n\n \n\nAll levels are welcome. This class will draw from Kellyn's training as a yoga teacher\, dance/movement therapist\, and improvisational dance artist. Class will involve gentle movements to boost your mood and energy. While class will mostly entail solo movement practices\, it may incorporate some optional partner or group exercises. Self-attunement\, consent\, and individual expression will be encouraged. We hope to build community amongst Ravenswood offices and those working from home in the area. \n\n \n\n*please note\, class takes place on the second floor of a building without an elevator. If attending physically is not possible for you\, please reach out for a virtual option.
X-ALT-DESC;FMTTYPE=text/html:<div>RESET: A lunchtime movement break</div>\n\n<div>When: 4 Wednesdays starting September 11th\, 12-12:45pm</div>\n\n<div>Where: Mind Body Connections\, 1802 W. Berteau Suite 205</div>\n\n<div>Who: Anyone* needing a break from their work day!</div>\n\n<div>Cost: sliding scale $10-20 class<br />\nContact: Kellyn@mbconnections.net</div>\n\n<div>&nbsp\;</div>\n\n<div>All levels are welcome. This class will draw from Kellyn&#39\;s training as a yoga teacher\, dance/movement therapist\, and improvisational dance artist. Class will involve&nbsp\;gentle movements to boost your mood and energy. While class will mostly entail solo&nbsp\;movement practices\, it may&nbsp\;incorporate some optional partner or group exercises. Self-attunement\, consent\, and individual expression will be encouraged. We hope to build community amongst Ravenswood offices and those working from home in the area.&nbsp\;</div>\n\n<div>&nbsp\;</div>\n\n<div>*please note\, class takes place on the second floor of a building without an elevator. If attending physically is not possible for you\, please reach out for a virtual option.</div>\n
LOCATION:1802 W Berteau\, Suite 205\, Chicago
UID:e.2566.11944
SEQUENCE:3
DTSTAMP:20260421T154702Z
URL:https://business.ravenswoodchicago.org/events/details/reset-a-lunchtime-movement-break-09-18-2024-11944
END:VEVENT

END:VCALENDAR
