BEGIN:VCALENDAR
VERSION:2.0
PRODID:-//ChamberMaster//Event Calendar 2.0//EN
METHOD:PUBLISH
X-PUBLISHED-TTL:P3D
REFRESH-INTERVAL:P3D
CALSCALE:GREGORIAN
BEGIN:VEVENT
DTSTART:20241213T000000Z
DTEND:20241213T020000Z
X-MICROSOFT-CDO-ALLDAYEVENT:FALSE
SUMMARY:Ravenswood x Andersonville Holiday Mixer
DESCRIPTION:Business leaders- you're invited to unwind this Holiday Season with our friends and neighbors from Andersonville at our annual Holiday Mixer!\n\nThe Greater Ravenswood and Andersonville chambers are bringing our small business communities together for an evening of celebration at Carol's Pub. At this festive event\, you'll get to mingle with neighbors and old friends while enjoying a buffet of mouth-watering small bites from the Carol's kitchen. We'll also feature sweet treats from Amy's Candy Bar and Believe Cakes.\n\n\n\nEnjoy live music from the talented Nikki O'Neill duo\, and be dazzled by a fabulous drag performance by the one and only Merriam Levkowitz. Test your luck with a fun bingo game and show off your creativity in our Kitschy Sweater Contest for a chance to win fantastic prizes. Whether you're looking to make new connections or just want to have a good time\, this event promises to be a lively blend of jubilant networking and entertainment you won't want to miss!\n\n\n\nOpened as Pam's Playhouse in 1972\, Carol's Pub eventually came to take the name of owner Ed Warm's predecessor in ownership\, the beloved Carol Harris. We're thankful to them for hosting us as we celebrate another year of growing and supporting local small businesses.\n\n\n\nTickets include admission\, your first drink\, heavy apps\, holiday sweets\, and gifts from our partners. Space for this event is limited. Registration closes Tuesday\, December 10th at 12pm.
X-ALT-DESC;FMTTYPE=text/html:<h3><em><strong>Business leaders- you&rsquo\;re invited to unwind this Holiday Season with our friends and neighbors from Andersonville at our annual Holiday Mixer!</strong></em></h3>\n\n<p>The Greater Ravenswood and Andersonville chambers are bringing our small business communities together for an evening of celebration at Carol&#39\;s Pub. At this festive event\, you&rsquo\;ll get to mingle with neighbors and old friends while enjoying a buffet of mouth-watering small bites from the Carol&#39\;s kitchen. We&rsquo\;ll also feature sweet treats from Amy&#39\;s Candy Bar and Believe Cakes.<br />\n<br />\nEnjoy live music from the talented Nikki O&#39\;Neill duo\, and be dazzled by a fabulous drag performance by the one and only Merriam Levkowitz. Test your luck with a fun bingo game and show off your creativity in our Kitschy Sweater Contest for a chance to win fantastic prizes. Whether you&rsquo\;re looking to make new connections or just want to have a good time\, this event promises to be a lively blend of jubilant networking and entertainment you won&rsquo\;t want to miss!<br />\n<br />\nOpened as Pam&#39\;s Playhouse in 1972\, Carol&#39\;s Pub eventually came to take the name of owner Ed Warm&#39\;s predecessor in ownership\, the beloved Carol Harris. We&rsquo\;re thankful to them for hosting us as we celebrate another year of growing and supporting local small businesses.<br />\n<br />\nTickets include admission\, your first drink\, heavy apps\, holiday sweets\, and gifts from our partners. Space for this event is limited. Registration closes Tuesday\, December 10th at 12pm.</p>\n
LOCATION:Carol's Pub
UID:e.2566.11932
SEQUENCE:3
DTSTAMP:20260421T113814Z
URL:https://business.ravenswoodchicago.org/events/details/ravenswood-x-andersonville-holiday-mixer-11932
END:VEVENT

END:VCALENDAR
