BEGIN:VCALENDAR
VERSION:2.0
PRODID:-//ChamberMaster//Event Calendar 2.0//EN
METHOD:PUBLISH
X-PUBLISHED-TTL:P3D
REFRESH-INTERVAL:P3D
CALSCALE:GREGORIAN
BEGIN:VEVENT
DTSTART:20240608T150000Z
DTEND:20240608T210000Z
X-MICROSOFT-CDO-ALLDAYEVENT:FALSE
SUMMARY:Ravenswood Sidewalk Sale
DESCRIPTION:The Greater Ravenswood Chamber of Commerce is thrilled to announce the first Ravenswood Sidewalk Sale on Saturday\, June 8th! Enjoy open air shopping\, one-of-a-kind merchandise\, and amazing specials along Montrose\, Damen\, Lawrence\, and Ravenswood avenues. While you're out exploring\, enjoy an incredible brunch or delicious bite at one of the many fantastic restaurants in the neighborhood.
X-ALT-DESC;FMTTYPE=text/html:The Greater Ravenswood Chamber of Commerce is thrilled to announce the first Ravenswood Sidewalk Sale on Saturday\, June 8th! Enjoy open air shopping\, one-of-a-kind merchandise\, and amazing specials along Montrose\, Damen\, Lawrence\, and Ravenswood avenues. While you&rsquo\;re out exploring\, enjoy an incredible brunch or delicious bite at one of the many fantastic restaurants in the neighborhood.
LOCATION:
UID:e.2566.8546
SEQUENCE:3
DTSTAMP:20260421T235355Z
URL:https://business.ravenswoodchicago.org/events/details/ravenswood-sidewalk-sale-8546
END:VEVENT

END:VCALENDAR
