BEGIN:VCALENDAR
VERSION:2.0
PRODID:-//ChamberMaster//Event Calendar 2.0//EN
METHOD:PUBLISH
X-PUBLISHED-TTL:P3D
REFRESH-INTERVAL:P3D
CALSCALE:GREGORIAN
BEGIN:VEVENT
DTSTART:20240623T173000Z
DTEND:20240623T193000Z
X-MICROSOFT-CDO-ALLDAYEVENT:FALSE
SUMMARY:Ravenswood Puzzle Swap
DESCRIPTION:Join us for an afternoon of puzzles\, coffee\, and community!\n\n\nAt the second Ravenswood Puzzle Swap\, neighbors are invited to bring a new or gently-used puzzle (500+ pieces) to exchange for another. Participants can enjoy making connections with like-minded hobbyists\, plus receive a $5 mimosa special from Platform 47. You'll also be able to sign up on-site for a Chicago Public Library Card!\n\n\n\nClick here to RSVP\n\n\n\nWe're excited to come together\, swap some puzzles\, and build connections in Ravenswood! Don't miss this chance to unwind\, engage your mind\, and make new friends. If you're planning to attend\, please RSVP so we have an accurate headcount for the swap. RSVPs are not required to attend\, but will help us to plan a fun and comfortable Puzzle Swap for everyone!\n\nWhat to Expect\n\n\nPuzzle Exchange: Bring a puzzle\, take a puzzle! Bring a new or gently-used puzzle of 500+ pieces. Share the joy of puzzles with fellow enthusiasts!\n\n\n\nComplimentary Coffee: Participants can enjoy free coffee as you engage in the swap! It's the perfect pick-me-up to fuel your puzzling.\n\n\n\nExclusive Specials: Participants also receive a $5 mimosa special from Platform 47. Order something and hang out at Platform 47\, or order food to go and get a head start on your new puzzle!\n\n\n\nLibrary Card Signup: Explore a world of knowledge by signing up for a Chicago Public Library card right at the swap! This is a free way to access a vast collection of books\, resources\, and more.\n\n\n\nThis event is brought to you by the Greater Ravenswood Chamber of Commerce\, SSA #31\, Sulzer Regional Library\, and Platform 47.
X-ALT-DESC;FMTTYPE=text/html:<h3><em>Join us for an afternoon&nbsp\;of puzzles\, coffee\, and community!</em></h3>\n<br />\nAt the second Ravenswood Puzzle Swap\, neighbors are invited to bring a new or gently-used puzzle (500+ pieces) to exchange for another. Participants can enjoy making connections with like-minded hobbyists\, plus receive a $5 mimosa special from Platform 47. You&#39\;ll also be able to sign up on-site for a Chicago Public Library Card!<br />\n<br />\n<u><strong><a href="https://www.eventbrite.com/e/ravenswood-puzzle-swap-tickets-814453370957?aff=oddtdtcreator" target="_blank">Click here to RSVP</a></strong></u>\n\n<p><br />\nWe&#39\;re excited to come together\, swap some puzzles\, and build connections in Ravenswood! Don&#39\;t miss this chance to unwind\, engage your mind\, and make new friends. If you&#39\;re planning to attend\, please RSVP so we have an accurate headcount for the swap.&nbsp\;<strong>RSVPs are not required to attend\, but will help us to plan a fun and comfortable Puzzle Swap for everyone!</strong></p>\n\n<h3>What to Expect</h3>\n<br />\n<strong>Puzzle Exchange:</strong> Bring a puzzle\, take a puzzle! Bring a new or gently-used puzzle of 500+ pieces. Share the joy of puzzles with fellow enthusiasts!<br />\n<br />\n<strong>Complimentary Coffee:</strong> Participants can enjoy free coffee as you engage in the swap! It&#39\;s the perfect pick-me-up to fuel your puzzling.<br />\n<br />\n<strong>Exclusive Specials:</strong> Participants also receive a $5 mimosa special from Platform 47. Order something and hang out at Platform 47\, or order food to go and get a head start on your new puzzle!<br />\n<br />\n<strong>Library Card Signup:</strong> Explore a world of knowledge by signing up for a Chicago Public Library card right at the swap! This is a free way to access a vast collection of books\, resources\, and more.<br />\n<br />\nThis event is brought to you by the <a href="https://ravenswoodchicago.org/" target="_self">Greater Ravenswood Chamber of Commerce</a>\, <a href="https://ravenswoodchicago.org/ravenswood-ssa31/">SSA #31</a>\,&nbsp\;<a href="https://www.chipublib.org/locations/67/" target="_blank">Sulzer Regional Library</a>\, and <a href="https://www.platform47chicago.com/home">Platform 47</a>.
LOCATION:Platform 47 4709 N Damen Ave Chicago\, IL 60625
UID:e.2566.8424
SEQUENCE:3
DTSTAMP:20260421T224126Z
URL:https://business.ravenswoodchicago.org/events/details/ravenswood-puzzle-swap-06-02-2024-8424
END:VEVENT

END:VCALENDAR
