BEGIN:VCALENDAR
VERSION:2.0
PRODID:-//ChamberMaster//Event Calendar 2.0//EN
METHOD:PUBLISH
X-PUBLISHED-TTL:P3D
REFRESH-INTERVAL:P3D
CALSCALE:GREGORIAN
BEGIN:VEVENT
DTSTART:20240727T140000Z
DTEND:20240727T220000Z
X-MICROSOFT-CDO-ALLDAYEVENT:FALSE
SUMMARY:Ravenswood Neighbors Association Garden Crawl & Happy Hour
DESCRIPTION:Please join the Ravenswood Neighbors Association for our 3rd Annual Garden Crawl and Happy Hour on Saturday\, July 27th. All programs are free!\n\n\n\nNew tours and workshops start every hour between 9am-3pm and will begin in the RNA event tent at Ravenswood & Sunnyside (west side of Metra tracks). Join our guides for free tours of Ravenswood native gardens\, neighborhood tree canopies (with certified arborists)\, and the Sunnyside Savanna\, with additional free workshops on beekeeping\, container gardening\, and birding in Chicago in our event tent\, We will have local honey for sale\, a kids' craft\, free native wildflower seeds (while supplies last)\, and our gardening-themed fundraising raffle. This event also features a self-guided tour of privately owned gardens in the neighborhood   tour map links are posted on our website.\n\n\n\nIf you live in Ravenswood and have a garden you would like to share on event day\, please register your garden here: https://forms.gle/BjrHGmemYXrFZ4CfA\n\n\n\nAfter a day of inspiration and learning\, unwind at our Happy Hour from 3pm-5pm at Platform 47 (4709 N. Damen Avenue). Enjoy old-time bluegrass music from Rachel Kazez & Friends\, enjoy a beverage with us\, and network with fellow gardening and environmental enthusiasts.\n\n\n\nDon't miss out on this incredible celebration of nature and community! For more information\, including the tour schedule\, please visit: https://myravenswoodneighbors.org/garden-crawl/\n\n\n\nThis event is sponsored by The Ravenswood Neighbors Association\, with special tour partners Kramer Tree Specialists\, Montrose Metra Community Gardens\, Openlands TreeKeepers\, Chicago Bird Alliance\, The Hive Supply Company\, The Helpful Hummingbird\, and Platform 47.\n\n\n\nThis is a rain-or-shine event.
X-ALT-DESC;FMTTYPE=text/html:Please join the Ravenswood Neighbors Association for our <strong>3rd Annual Garden Crawl and Happy Hour</strong> on <strong>Saturday\, July 27th</strong>. All programs are free!<br />\n<br />\nNew <strong>tours and workshops </strong>start every hour between <strong>9am-3pm</strong> and will begin in the RNA event tent at Ravenswood &amp\; Sunnyside (west side of Metra tracks). Join our guides for free tours of Ravenswood native gardens\, neighborhood tree canopies (with certified arborists)\, and the Sunnyside Savanna\, with additional free workshops on beekeeping\, container gardening\, and birding in Chicago in our event tent\, We will have local honey for sale\, a kids&rsquo\; craft\, free native wildflower seeds (while supplies last)\, and our gardening-themed fundraising raffle. This event also features a self-guided tour of privately owned gardens in the neighborhood &ndash\; tour map links are posted on our website.<br />\n<br />\nIf you live in Ravenswood and have a garden you would like to share on event day\, please register your garden here: <a href="https://forms.gle/BjrHGmemYXrFZ4CfA">https://forms.gle/BjrHGmemYXrFZ4CfA</a><br />\n<br />\nAfter a day of inspiration and learning\, unwind at our <strong>Happy Hour</strong> from <strong>3pm-5pm</strong> at Platform 47 (4709 N. Damen Avenue). Enjoy old-time bluegrass music from Rachel Kazez &amp\; Friends\, enjoy a beverage with us\, and network with fellow gardening and environmental enthusiasts.<br />\n<br />\nDon&rsquo\;t miss out on this incredible celebration of nature and community! For more information\, including the tour schedule\, please visit: <a href="https://myravenswoodneighbors.org/garden-crawl/">https://myravenswoodneighbors.org/garden-crawl/</a><br />\n<br />\nThis event is sponsored by The Ravenswood Neighbors Association\, with special tour partners Kramer Tree Specialists\, Montrose Metra Community Gardens\, Openlands TreeKeepers\, Chicago Bird Alliance\, The Hive Supply Company\, The Helpful Hummingbird\, and Platform 47.<br />\n<br />\nThis is a rain-or-shine event.
LOCATION:Garden Crawl: Ravenswood & Sunnyside Happy Hour: Platform 47
UID:e.2566.11906
SEQUENCE:3
DTSTAMP:20260421T195132Z
URL:https://business.ravenswoodchicago.org/events/details/ravenswood-neighbors-association-garden-crawl-happy-hour-11906
END:VEVENT

END:VCALENDAR
