BEGIN:VCALENDAR
VERSION:2.0
PRODID:-//ChamberMaster//Event Calendar 2.0//EN
METHOD:PUBLISH
X-PUBLISHED-TTL:P3D
REFRESH-INTERVAL:P3D
CALSCALE:GREGORIAN
BEGIN:VEVENT
DTSTART:20240420T180000Z
DTEND:20240420T230000Z
X-MICROSOFT-CDO-ALLDAYEVENT:FALSE
SUMMARY:Ravenswood Makers Market
DESCRIPTION:We're back for another fun spring market full of of artists\, makers\, and delicious cocktails! Join us in the Ravenswood neighborhood of Chicago to shop 25 makers with a drink in hand at KOVAL Distillery! KOVAL Distillery 4241 N Ravenswood Ave Chicago\, IL 60613 Products will be a wide variety of handmade and vintage goods including original art\, home decor\, clothing\, paper products\, metal working\, jewelry\, soap\, candles\, and a whole lot more! No MLM or direct sales will be present. This event is FREE to attend! You only pay for the items you wish to purchase and the drinks you want to consume. ?This is a family friendly event\, however please note alcohol will be present due to the nature of the venue. If you are 21 or older and choose to drink\, please drink responsibly.
X-ALT-DESC;FMTTYPE=text/html:We&#39\;re back for another fun spring market full of of artists\, makers\, and delicious cocktails! Join us in the Ravenswood neighborhood of Chicago to shop 25 makers with a drink in hand at KOVAL Distillery! KOVAL Distillery 4241 N Ravenswood Ave Chicago\, IL 60613 Products will be a wide variety of handmade and vintage goods including original art\, home decor\, clothing\, paper products\, metal working\, jewelry\, soap\, candles\, and a whole lot more! No MLM or direct sales will be present. This event is FREE to attend! You only pay for the items you wish to purchase and the drinks you want to consume. ?This is a family friendly event\, however please note alcohol will be present due to the nature of the venue. If you are 21 or older and choose to drink\, please drink responsibly.
LOCATION:KOVAL Distillery 4241 N Ravenswood Ave Chicago\, IL 60613
UID:e.2566.8378
SEQUENCE:3
DTSTAMP:20260422T015136Z
URL:https://business.ravenswoodchicago.org/events/details/ravenswood-makers-market-04-20-2024-8378
END:VEVENT

END:VCALENDAR
