BEGIN:VCALENDAR
VERSION:2.0
PRODID:-//ChamberMaster//Event Calendar 2.0//EN
METHOD:PUBLISH
X-PUBLISHED-TTL:P3D
REFRESH-INTERVAL:P3D
CALSCALE:GREGORIAN
BEGIN:VEVENT
DTSTART:20240802T000000Z
DTEND:20240802T010000Z
X-MICROSOFT-CDO-ALLDAYEVENT:FALSE
SUMMARY:Queer Eating Disorder Process Group
DESCRIPTION:This group is a space to process eating disorder recovery as an LGBTQ+ person. Group members will connect with peers who share similar lived experiences and challenges in the recovery process.
X-ALT-DESC;FMTTYPE=text/html:This group is a space to process eating disorder recovery as an LGBTQ+ person. Group members will connect with peers who share similar lived experiences and challenges in the recovery process.&nbsp\;
LOCATION:Hosting: Mind Body Connections 1802 W Berteau Suite 205 Chicago\, IL 60613 The workshop is virtual
UID:e.2566.11890
SEQUENCE:3
DTSTAMP:20260421T170857Z
URL:https://business.ravenswoodchicago.org/events/details/queer-eating-disorder-process-group-08-01-2024-11890
END:VEVENT

END:VCALENDAR
