BEGIN:VCALENDAR
VERSION:2.0
PRODID:-//ChamberMaster//Event Calendar 2.0//EN
METHOD:PUBLISH
X-PUBLISHED-TTL:P3D
REFRESH-INTERVAL:P3D
CALSCALE:GREGORIAN
BEGIN:VEVENT
DTSTART:20250614T230000Z
DTEND:20250615T030000Z
X-MICROSOFT-CDO-ALLDAYEVENT:FALSE
SUMMARY:Prom 4 Mom
DESCRIPTION:The Ultimate Moms Night Out! A night of free food\, dancing\, photo booth fun\, amazing door prizes\, and more for Northside moms of any age. Advance registration required: https://www.eventbrite.com/e/prom-4-moms-registration-1316424163109?aff=oddtdtcreator
X-ALT-DESC;FMTTYPE=text/html:The Ultimate Moms Night Out! A night of free food\, dancing\, photo booth fun\, amazing door prizes\, and more for Northside moms of any age. Advance registration required: https://www.eventbrite.com/e/prom-4-moms-registration-1316424163109?aff=oddtdtcreator
LOCATION:Chicago Theater Works 1113 W. Belmont Ave.
UID:e.2566.14014
SEQUENCE:3
DTSTAMP:20260421T031954Z
URL:https://business.ravenswoodchicago.org/events/details/prom-4-mom-06-14-2025-14014
END:VEVENT

END:VCALENDAR
