BEGIN:VCALENDAR
VERSION:2.0
PRODID:-//ChamberMaster//Event Calendar 2.0//EN
METHOD:PUBLISH
X-PUBLISHED-TTL:P3D
REFRESH-INTERVAL:P3D
CALSCALE:GREGORIAN
BEGIN:VEVENT
DTSTART:20240606T210000Z
DTEND:20240606T230000Z
X-MICROSOFT-CDO-ALLDAYEVENT:FALSE
SUMMARY:Pride Networking at Terrace
DESCRIPTION:Enjoy an evening of refreshments on the beautiful\, botanical patio at TERRACE on Thursday\, June 6th from 4pm-6pm with the Uptown\, LGBT\, and Greater Ravenswood Chambers of Commerce. Join us for a vibrant and inclusive networking event celebrating diversity and inclusion within the LGBTQ+ community and allies!\n\n\nThis multi-chamber networking event is open to all and provides a welcoming space for professionals to connect\, share experiences\, and build meaningful relationships. Whether you identify as LGBTQ+ or support the community\, this event is an opportunity to network with like-minded individuals\, learn from diverse perspectives\, and foster a supportive professional environment. Come kick-off Pride Month\, forge new connections\, and empower each other to thrive in our workplaces and communities!\n\n\nTickets to the event include small bites from Platform 47 and the materials to plant and bring home your own propagated cutting! Registration ends at noon on Wednesday\, June 5th. This is an outdoor event\, though there is an inclement weather plan to move indoors.
X-ALT-DESC;FMTTYPE=text/html:<!-- wp:paragraph -->\n<p>Enjoy an evening of refreshments on the beautiful\, botanical patio at <a href="https://theterrace.shop/">TERRACE </a>on <strong>Thursday\, June 6th </strong>from 4pm-6pm with the Uptown\, LGBT\, and Greater Ravenswood Chambers of Commerce. Join us for a vibrant and inclusive networking event celebrating diversity and inclusion within the LGBTQ+ community and allies!</p>\n<!-- /wp:paragraph --><!-- wp:paragraph -->\n\n<p>This multi-chamber networking event is <strong>open to all</strong> and provides a welcoming space for professionals to connect\, share experiences\, and build meaningful relationships. Whether you identify as LGBTQ+ or support the community\, this event is an opportunity to network with like-minded individuals\, learn from diverse perspectives\, and foster a supportive professional environment. Come kick-off Pride Month\, forge new connections\, and empower each other to thrive in our workplaces and communities!</p>\n<!-- /wp:paragraph --><!-- wp:paragraph -->\n\n<p>Tickets to the event include small bites from <a href="https://www.platform47chicago.com/">Platform 47</a> and the materials to plant and bring home your own propagated cutting! <strong>Registration ends at noon on Wednesday\, June 5th.</strong> This is an outdoor event\, though there is an inclement weather plan to move indoors.</p>\n<!-- /wp:paragraph -->
LOCATION:Terrace 1329 W Wilson Ave Chicago\, IL 60640
UID:e.2566.8422
SEQUENCE:3
DTSTAMP:20260421T223618Z
URL:https://business.ravenswoodchicago.org/events/details/pride-networking-at-terrace-8422
END:VEVENT

END:VCALENDAR
