BEGIN:VCALENDAR
VERSION:2.0
PRODID:-//ChamberMaster//Event Calendar 2.0//EN
METHOD:PUBLISH
X-PUBLISHED-TTL:P3D
REFRESH-INTERVAL:P3D
CALSCALE:GREGORIAN
BEGIN:VEVENT
DTSTART:20250617T210000Z
DTEND:20250617T230000Z
X-MICROSOFT-CDO-ALLDAYEVENT:FALSE
SUMMARY:Pride Networking at My Buddy's
DESCRIPTION:Enjoy an evening of community at My Buddy's on Tuesday\, June 17th from 4pm-6pm with the Greater Ravenswood and Uptown Chambers of Commerce. Join us for a vibrant networking event celebrating diversity and inclusion within the LGBTQ+ community and allies!\n\nThis multi-chamber networking event is open to all and provides a welcoming space for professionals to connect\, share experiences\, and build meaningful relationships. Whether you identify as LGBTQ+ or support the community\, this event is an opportunity to network with like-minded individuals\, learn from diverse perspectives\, and foster a supportive professional environment. Come kick-off Pride Month\, forge new connections\, and empower each other to thrive in our workplaces and communities!\n\nTickets include admission\, your first drink\, and an entry into our door prize raffle. A limited number of spots are available.
X-ALT-DESC;FMTTYPE=text/html:<!-- wp:paragraph -->\n<p style="box-sizing: inherit\; margin: 0px 0px 1.5em\; color: rgb(64\, 64\, 64)\; font-family: Montserrat\, &quot\;Century Gothic&quot\;\, &quot\;Avant Garde&quot\;\, Helvetica\, Arial\, sans-serif\; font-size: 17.6px\;">Enjoy an evening of community at My Buddy&rsquo\;s on&nbsp\;<span style="box-sizing: inherit\; font-family: montserratmedium\, &quot\;Century Gothic&quot\;\, &quot\;Avant Garde&quot\;\, Helvetica\, Arial\, sans-serif\; font-weight: bolder\;">Tuesday\, June 17th&nbsp\;</span>from 4pm-6pm with the&nbsp\;<a href="https://ravenswoodchicago.org/" rel="noreferrer noopener" style="box-sizing: inherit\; background-color: transparent\; color: rgb(0\, 87\, 82)\; text-decoration-thickness: 1px\; text-decoration-style: solid\; text-decoration-color: rgb(72\, 193\, 189)\; transition: 0.3s\;" target="_blank">Greater Ravenswood</a>&nbsp\;and&nbsp\;<a href="https://exploreuptown.org/" rel="noreferrer noopener" style="box-sizing: inherit\; background-color: transparent\; color: rgb(0\, 87\, 82)\; text-decoration-thickness: 1px\; text-decoration-style: solid\; text-decoration-color: rgb(72\, 193\, 189)\; transition: 0.3s\;" target="_blank">Uptown</a>&nbsp\;Chambers of Commerce. Join us for a vibrant networking event celebrating diversity and inclusion within the LGBTQ+ community and allies!</p>\n\n<p style="box-sizing: inherit\; margin: 0px 0px 1.5em\; color: rgb(64\, 64\, 64)\; font-family: Montserrat\, &quot\;Century Gothic&quot\;\, &quot\;Avant Garde&quot\;\, Helvetica\, Arial\, sans-serif\; font-size: 17.6px\;">This multi-chamber networking event is&nbsp\;<span style="box-sizing: inherit\; font-family: montserratmedium\, &quot\;Century Gothic&quot\;\, &quot\;Avant Garde&quot\;\, Helvetica\, Arial\, sans-serif\; font-weight: bolder\;">open to all</span>&nbsp\;and provides a welcoming space for professionals to connect\, share experiences\, and build meaningful relationships. Whether you identify as LGBTQ+ or support the community\, this event is an opportunity to network with like-minded individuals\, learn from diverse perspectives\, and foster a supportive professional environment. Come kick-off Pride Month\, forge new connections\, and empower each other to thrive in our workplaces and communities!</p>\n\n<p style="box-sizing: inherit\; margin: 0px 0px 1.5em\; color: rgb(64\, 64\, 64)\; font-family: Montserrat\, &quot\;Century Gothic&quot\;\, &quot\;Avant Garde&quot\;\, Helvetica\, Arial\, sans-serif\; font-size: 17.6px\;"><em style="box-sizing: inherit\;">Tickets include admission\, your first drink\, and an entry into our door prize raffle. A limited number of spots are available.</em></p>\n<!-- /wp:paragraph -->
LOCATION:My Buddy's 4416 N Clark St Chicago\, IL 60640
UID:e.2566.14013
SEQUENCE:3
DTSTAMP:20260421T015107Z
URL:https://business.ravenswoodchicago.org/events/details/pride-networking-at-my-buddy-s-14013
END:VEVENT

END:VCALENDAR
